BEGIN:VCALENDAR
VERSION:2.0
PRODID:-//Lehigh Baptist Church - ECPv6.15.20//NONSGML v1.0//EN
CALSCALE:GREGORIAN
METHOD:PUBLISH
X-WR-CALNAME:Lehigh Baptist Church
X-ORIGINAL-URL:https://lehighbaptistchurch.org
X-WR-CALDESC:Events for Lehigh Baptist Church
REFRESH-INTERVAL;VALUE=DURATION:PT1H
X-Robots-Tag:noindex
X-PUBLISHED-TTL:PT1H
BEGIN:VTIMEZONE
TZID:America/New_York
BEGIN:DAYLIGHT
TZOFFSETFROM:-0500
TZOFFSETTO:-0400
TZNAME:EDT
DTSTART:20260308T070000
END:DAYLIGHT
BEGIN:STANDARD
TZOFFSETFROM:-0400
TZOFFSETTO:-0500
TZNAME:EST
DTSTART:20261101T060000
END:STANDARD
BEGIN:DAYLIGHT
TZOFFSETFROM:-0500
TZOFFSETTO:-0400
TZNAME:EDT
DTSTART:20270314T070000
END:DAYLIGHT
BEGIN:STANDARD
TZOFFSETFROM:-0400
TZOFFSETTO:-0500
TZNAME:EST
DTSTART:20271107T060000
END:STANDARD
BEGIN:DAYLIGHT
TZOFFSETFROM:-0500
TZOFFSETTO:-0400
TZNAME:EDT
DTSTART:20280312T070000
END:DAYLIGHT
BEGIN:STANDARD
TZOFFSETFROM:-0400
TZOFFSETTO:-0500
TZNAME:EST
DTSTART:20281105T060000
END:STANDARD
END:VTIMEZONE
BEGIN:VEVENT
DTSTART;TZID=America/New_York:20270903T190000
DTEND;TZID=America/New_York:20270903T210000
DTSTAMP:20260420T014236
CREATED:20250615T183824Z
LAST-MODIFIED:20250615T183824Z
UID:10007766-1819998000-1820005200@lehighbaptistchurch.org
SUMMARY:Family Fellowship
DESCRIPTION:
URL:https://lehighbaptistchurch.org/event/family-fellowship/2027-09-03/
LOCATION:Lehigh Baptist Church\, 934 Alburger Avenue\, Philadelphia\, PA\, 19115\, United States
END:VEVENT
BEGIN:VEVENT
DTSTART;TZID=America/New_York:20270905T094500
DTEND;TZID=America/New_York:20270905T104500
DTSTAMP:20260420T014236
CREATED:20250106T184411Z
LAST-MODIFIED:20250106T184411Z
UID:10006600-1820137500-1820141100@lehighbaptistchurch.org
SUMMARY:Sunday School
DESCRIPTION:
URL:https://lehighbaptistchurch.org/event/sunday-school/2027-09-05/
LOCATION:Lehigh Baptist Church\, 934 Alburger Avenue\, Philadelphia\, PA\, 19115\, United States
END:VEVENT
BEGIN:VEVENT
DTSTART;TZID=America/New_York:20270905T110000
DTEND;TZID=America/New_York:20270905T121500
DTSTAMP:20260420T014236
CREATED:20250106T184636Z
LAST-MODIFIED:20250106T184636Z
UID:10006861-1820142000-1820146500@lehighbaptistchurch.org
SUMMARY:Sunday Morning Worship Service
DESCRIPTION:
URL:https://lehighbaptistchurch.org/event/sunday-morning-worship-service/2027-09-05/
LOCATION:Lehigh Baptist Church\, 934 Alburger Avenue\, Philadelphia\, PA\, 19115\, United States
END:VEVENT
BEGIN:VEVENT
DTSTART;TZID=America/New_York:20270908T191500
DTEND;TZID=America/New_York:20270908T201500
DTSTAMP:20260420T014236
CREATED:20250106T185455Z
LAST-MODIFIED:20250106T185455Z
UID:10007126-1820430900-1820434500@lehighbaptistchurch.org
SUMMARY:Midweek Prayer Meeting
DESCRIPTION:
URL:https://lehighbaptistchurch.org/event/midweek-prayer-meeting/2027-09-08/
LOCATION:Lehigh Baptist Church\, 934 Alburger Avenue\, Philadelphia\, PA\, 19115\, United States
END:VEVENT
BEGIN:VEVENT
DTSTART;TZID=America/New_York:20270910T190000
DTEND;TZID=America/New_York:20270910T210000
DTSTAMP:20260420T014236
CREATED:20250615T183824Z
LAST-MODIFIED:20250615T183824Z
UID:10007767-1820602800-1820610000@lehighbaptistchurch.org
SUMMARY:Family Fellowship
DESCRIPTION:
URL:https://lehighbaptistchurch.org/event/family-fellowship/2027-09-10/
LOCATION:Lehigh Baptist Church\, 934 Alburger Avenue\, Philadelphia\, PA\, 19115\, United States
END:VEVENT
BEGIN:VEVENT
DTSTART;TZID=America/New_York:20270911T083000
DTEND;TZID=America/New_York:20270911T110000
DTSTAMP:20260420T014236
CREATED:20250120T145235Z
LAST-MODIFIED:20250519T231123Z
UID:10007279-1820651400-1820660400@lehighbaptistchurch.org
SUMMARY:Men’s Fellowship & Prayer Breakfast
DESCRIPTION:
URL:https://lehighbaptistchurch.org/event/mens-fellowship-prayer-breakfast-2-2/2027-09-11/
LOCATION:Lehigh Baptist Church\, 934 Alburger Avenue\, Philadelphia\, PA\, 19115\, United States
END:VEVENT
BEGIN:VEVENT
DTSTART;TZID=America/New_York:20270911T113000
DTEND;TZID=America/New_York:20270911T133000
DTSTAMP:20260420T014236
CREATED:20251221T202454Z
LAST-MODIFIED:20251221T202455Z
UID:10008089-1820662200-1820669400@lehighbaptistchurch.org
SUMMARY:Women's Fellowship
DESCRIPTION:
URL:https://lehighbaptistchurch.org/event/womens-fellowship-2-2-2/2027-09-11/
LOCATION:Lehigh Baptist Church\, 934 Alburger Avenue\, Philadelphia\, PA\, 19115\, United States
END:VEVENT
BEGIN:VEVENT
DTSTART;TZID=America/New_York:20270912T094500
DTEND;TZID=America/New_York:20270912T104500
DTSTAMP:20260420T014236
CREATED:20250106T184411Z
LAST-MODIFIED:20250106T184411Z
UID:10006601-1820742300-1820745900@lehighbaptistchurch.org
SUMMARY:Sunday School
DESCRIPTION:
URL:https://lehighbaptistchurch.org/event/sunday-school/2027-09-12/
LOCATION:Lehigh Baptist Church\, 934 Alburger Avenue\, Philadelphia\, PA\, 19115\, United States
END:VEVENT
BEGIN:VEVENT
DTSTART;TZID=America/New_York:20270912T110000
DTEND;TZID=America/New_York:20270912T121500
DTSTAMP:20260420T014236
CREATED:20250106T184636Z
LAST-MODIFIED:20250106T184636Z
UID:10006862-1820746800-1820751300@lehighbaptistchurch.org
SUMMARY:Sunday Morning Worship Service
DESCRIPTION:
URL:https://lehighbaptistchurch.org/event/sunday-morning-worship-service/2027-09-12/
LOCATION:Lehigh Baptist Church\, 934 Alburger Avenue\, Philadelphia\, PA\, 19115\, United States
END:VEVENT
BEGIN:VEVENT
DTSTART;TZID=America/New_York:20270915T191500
DTEND;TZID=America/New_York:20270915T201500
DTSTAMP:20260420T014236
CREATED:20250106T185455Z
LAST-MODIFIED:20250106T185455Z
UID:10007127-1821035700-1821039300@lehighbaptistchurch.org
SUMMARY:Midweek Prayer Meeting
DESCRIPTION:
URL:https://lehighbaptistchurch.org/event/midweek-prayer-meeting/2027-09-15/
LOCATION:Lehigh Baptist Church\, 934 Alburger Avenue\, Philadelphia\, PA\, 19115\, United States
END:VEVENT
BEGIN:VEVENT
DTSTART;TZID=America/New_York:20270917T190000
DTEND;TZID=America/New_York:20270917T210000
DTSTAMP:20260420T014236
CREATED:20250615T183824Z
LAST-MODIFIED:20250615T183824Z
UID:10007768-1821207600-1821214800@lehighbaptistchurch.org
SUMMARY:Family Fellowship
DESCRIPTION:
URL:https://lehighbaptistchurch.org/event/family-fellowship/2027-09-17/
LOCATION:Lehigh Baptist Church\, 934 Alburger Avenue\, Philadelphia\, PA\, 19115\, United States
END:VEVENT
BEGIN:VEVENT
DTSTART;TZID=America/New_York:20270919T094500
DTEND;TZID=America/New_York:20270919T104500
DTSTAMP:20260420T014236
CREATED:20250106T184411Z
LAST-MODIFIED:20250106T184411Z
UID:10006602-1821347100-1821350700@lehighbaptistchurch.org
SUMMARY:Sunday School
DESCRIPTION:
URL:https://lehighbaptistchurch.org/event/sunday-school/2027-09-19/
LOCATION:Lehigh Baptist Church\, 934 Alburger Avenue\, Philadelphia\, PA\, 19115\, United States
END:VEVENT
BEGIN:VEVENT
DTSTART;TZID=America/New_York:20270919T110000
DTEND;TZID=America/New_York:20270919T121500
DTSTAMP:20260420T014236
CREATED:20250106T184636Z
LAST-MODIFIED:20250106T184636Z
UID:10006863-1821351600-1821356100@lehighbaptistchurch.org
SUMMARY:Sunday Morning Worship Service
DESCRIPTION:
URL:https://lehighbaptistchurch.org/event/sunday-morning-worship-service/2027-09-19/
LOCATION:Lehigh Baptist Church\, 934 Alburger Avenue\, Philadelphia\, PA\, 19115\, United States
END:VEVENT
BEGIN:VEVENT
DTSTART;TZID=America/New_York:20270922T191500
DTEND;TZID=America/New_York:20270922T201500
DTSTAMP:20260420T014236
CREATED:20250106T185455Z
LAST-MODIFIED:20250106T185455Z
UID:10007128-1821640500-1821644100@lehighbaptistchurch.org
SUMMARY:Midweek Prayer Meeting
DESCRIPTION:
URL:https://lehighbaptistchurch.org/event/midweek-prayer-meeting/2027-09-22/
LOCATION:Lehigh Baptist Church\, 934 Alburger Avenue\, Philadelphia\, PA\, 19115\, United States
END:VEVENT
BEGIN:VEVENT
DTSTART;TZID=America/New_York:20270924T190000
DTEND;TZID=America/New_York:20270924T210000
DTSTAMP:20260420T014236
CREATED:20250615T183824Z
LAST-MODIFIED:20250615T183824Z
UID:10007769-1821812400-1821819600@lehighbaptistchurch.org
SUMMARY:Family Fellowship
DESCRIPTION:
URL:https://lehighbaptistchurch.org/event/family-fellowship/2027-09-24/
LOCATION:Lehigh Baptist Church\, 934 Alburger Avenue\, Philadelphia\, PA\, 19115\, United States
END:VEVENT
BEGIN:VEVENT
DTSTART;TZID=America/New_York:20270926T094500
DTEND;TZID=America/New_York:20270926T104500
DTSTAMP:20260420T014236
CREATED:20250106T184411Z
LAST-MODIFIED:20250106T184411Z
UID:10006603-1821951900-1821955500@lehighbaptistchurch.org
SUMMARY:Sunday School
DESCRIPTION:
URL:https://lehighbaptistchurch.org/event/sunday-school/2027-09-26/
LOCATION:Lehigh Baptist Church\, 934 Alburger Avenue\, Philadelphia\, PA\, 19115\, United States
END:VEVENT
BEGIN:VEVENT
DTSTART;TZID=America/New_York:20270926T110000
DTEND;TZID=America/New_York:20270926T121500
DTSTAMP:20260420T014236
CREATED:20250106T184636Z
LAST-MODIFIED:20250106T184636Z
UID:10006864-1821956400-1821960900@lehighbaptistchurch.org
SUMMARY:Sunday Morning Worship Service
DESCRIPTION:
URL:https://lehighbaptistchurch.org/event/sunday-morning-worship-service/2027-09-26/
LOCATION:Lehigh Baptist Church\, 934 Alburger Avenue\, Philadelphia\, PA\, 19115\, United States
END:VEVENT
BEGIN:VEVENT
DTSTART;TZID=America/New_York:20270929T191500
DTEND;TZID=America/New_York:20270929T201500
DTSTAMP:20260420T014236
CREATED:20250106T185455Z
LAST-MODIFIED:20250106T185455Z
UID:10007129-1822245300-1822248900@lehighbaptistchurch.org
SUMMARY:Midweek Prayer Meeting
DESCRIPTION:
URL:https://lehighbaptistchurch.org/event/midweek-prayer-meeting/2027-09-29/
LOCATION:Lehigh Baptist Church\, 934 Alburger Avenue\, Philadelphia\, PA\, 19115\, United States
END:VEVENT
BEGIN:VEVENT
DTSTART;TZID=America/New_York:20271001T190000
DTEND;TZID=America/New_York:20271001T210000
DTSTAMP:20260420T014236
CREATED:20250615T183824Z
LAST-MODIFIED:20250615T183824Z
UID:10007770-1822417200-1822424400@lehighbaptistchurch.org
SUMMARY:Family Fellowship
DESCRIPTION:
URL:https://lehighbaptistchurch.org/event/family-fellowship/2027-10-01/
LOCATION:Lehigh Baptist Church\, 934 Alburger Avenue\, Philadelphia\, PA\, 19115\, United States
END:VEVENT
BEGIN:VEVENT
DTSTART;TZID=America/New_York:20271003T094500
DTEND;TZID=America/New_York:20271003T104500
DTSTAMP:20260420T014236
CREATED:20250106T184411Z
LAST-MODIFIED:20250106T184411Z
UID:10006604-1822556700-1822560300@lehighbaptistchurch.org
SUMMARY:Sunday School
DESCRIPTION:
URL:https://lehighbaptistchurch.org/event/sunday-school/2027-10-03/
LOCATION:Lehigh Baptist Church\, 934 Alburger Avenue\, Philadelphia\, PA\, 19115\, United States
END:VEVENT
BEGIN:VEVENT
DTSTART;TZID=America/New_York:20271003T110000
DTEND;TZID=America/New_York:20271003T121500
DTSTAMP:20260420T014236
CREATED:20250106T184636Z
LAST-MODIFIED:20250106T184636Z
UID:10006865-1822561200-1822565700@lehighbaptistchurch.org
SUMMARY:Sunday Morning Worship Service
DESCRIPTION:
URL:https://lehighbaptistchurch.org/event/sunday-morning-worship-service/2027-10-03/
LOCATION:Lehigh Baptist Church\, 934 Alburger Avenue\, Philadelphia\, PA\, 19115\, United States
END:VEVENT
BEGIN:VEVENT
DTSTART;TZID=America/New_York:20271006T191500
DTEND;TZID=America/New_York:20271006T201500
DTSTAMP:20260420T014236
CREATED:20250106T185455Z
LAST-MODIFIED:20250106T185455Z
UID:10007130-1822850100-1822853700@lehighbaptistchurch.org
SUMMARY:Midweek Prayer Meeting
DESCRIPTION:
URL:https://lehighbaptistchurch.org/event/midweek-prayer-meeting/2027-10-06/
LOCATION:Lehigh Baptist Church\, 934 Alburger Avenue\, Philadelphia\, PA\, 19115\, United States
END:VEVENT
BEGIN:VEVENT
DTSTART;TZID=America/New_York:20271008T190000
DTEND;TZID=America/New_York:20271008T210000
DTSTAMP:20260420T014236
CREATED:20250615T183824Z
LAST-MODIFIED:20250615T183824Z
UID:10007771-1823022000-1823029200@lehighbaptistchurch.org
SUMMARY:Family Fellowship
DESCRIPTION:
URL:https://lehighbaptistchurch.org/event/family-fellowship/2027-10-08/
LOCATION:Lehigh Baptist Church\, 934 Alburger Avenue\, Philadelphia\, PA\, 19115\, United States
END:VEVENT
BEGIN:VEVENT
DTSTART;TZID=America/New_York:20271009T083000
DTEND;TZID=America/New_York:20271009T110000
DTSTAMP:20260420T014236
CREATED:20250120T145235Z
LAST-MODIFIED:20250519T231123Z
UID:10007280-1823070600-1823079600@lehighbaptistchurch.org
SUMMARY:Men’s Fellowship & Prayer Breakfast
DESCRIPTION:
URL:https://lehighbaptistchurch.org/event/mens-fellowship-prayer-breakfast-2-2/2027-10-09/
LOCATION:Lehigh Baptist Church\, 934 Alburger Avenue\, Philadelphia\, PA\, 19115\, United States
END:VEVENT
BEGIN:VEVENT
DTSTART;TZID=America/New_York:20271009T113000
DTEND;TZID=America/New_York:20271009T133000
DTSTAMP:20260420T014236
CREATED:20251221T202454Z
LAST-MODIFIED:20251221T202455Z
UID:10008090-1823081400-1823088600@lehighbaptistchurch.org
SUMMARY:Women's Fellowship
DESCRIPTION:
URL:https://lehighbaptistchurch.org/event/womens-fellowship-2-2-2/2027-10-09/
LOCATION:Lehigh Baptist Church\, 934 Alburger Avenue\, Philadelphia\, PA\, 19115\, United States
END:VEVENT
BEGIN:VEVENT
DTSTART;TZID=America/New_York:20271010T094500
DTEND;TZID=America/New_York:20271010T104500
DTSTAMP:20260420T014236
CREATED:20250106T184411Z
LAST-MODIFIED:20250106T184411Z
UID:10006605-1823161500-1823165100@lehighbaptistchurch.org
SUMMARY:Sunday School
DESCRIPTION:
URL:https://lehighbaptistchurch.org/event/sunday-school/2027-10-10/
LOCATION:Lehigh Baptist Church\, 934 Alburger Avenue\, Philadelphia\, PA\, 19115\, United States
END:VEVENT
BEGIN:VEVENT
DTSTART;TZID=America/New_York:20271010T110000
DTEND;TZID=America/New_York:20271010T121500
DTSTAMP:20260420T014236
CREATED:20250106T184636Z
LAST-MODIFIED:20250106T184636Z
UID:10006866-1823166000-1823170500@lehighbaptistchurch.org
SUMMARY:Sunday Morning Worship Service
DESCRIPTION:
URL:https://lehighbaptistchurch.org/event/sunday-morning-worship-service/2027-10-10/
LOCATION:Lehigh Baptist Church\, 934 Alburger Avenue\, Philadelphia\, PA\, 19115\, United States
END:VEVENT
BEGIN:VEVENT
DTSTART;TZID=America/New_York:20271013T191500
DTEND;TZID=America/New_York:20271013T201500
DTSTAMP:20260420T014236
CREATED:20250106T185455Z
LAST-MODIFIED:20250106T185455Z
UID:10007131-1823454900-1823458500@lehighbaptistchurch.org
SUMMARY:Midweek Prayer Meeting
DESCRIPTION:
URL:https://lehighbaptistchurch.org/event/midweek-prayer-meeting/2027-10-13/
LOCATION:Lehigh Baptist Church\, 934 Alburger Avenue\, Philadelphia\, PA\, 19115\, United States
END:VEVENT
BEGIN:VEVENT
DTSTART;TZID=America/New_York:20271015T190000
DTEND;TZID=America/New_York:20271015T210000
DTSTAMP:20260420T014236
CREATED:20250615T183824Z
LAST-MODIFIED:20250615T183824Z
UID:10007772-1823626800-1823634000@lehighbaptistchurch.org
SUMMARY:Family Fellowship
DESCRIPTION:
URL:https://lehighbaptistchurch.org/event/family-fellowship/2027-10-15/
LOCATION:Lehigh Baptist Church\, 934 Alburger Avenue\, Philadelphia\, PA\, 19115\, United States
END:VEVENT
BEGIN:VEVENT
DTSTART;TZID=America/New_York:20271017T094500
DTEND;TZID=America/New_York:20271017T104500
DTSTAMP:20260420T014236
CREATED:20250106T184411Z
LAST-MODIFIED:20250106T184411Z
UID:10006606-1823766300-1823769900@lehighbaptistchurch.org
SUMMARY:Sunday School
DESCRIPTION:
URL:https://lehighbaptistchurch.org/event/sunday-school/2027-10-17/
LOCATION:Lehigh Baptist Church\, 934 Alburger Avenue\, Philadelphia\, PA\, 19115\, United States
END:VEVENT
END:VCALENDAR