BEGIN:VCALENDAR
VERSION:2.0
PRODID:-//Lehigh Baptist Church - ECPv6.15.20//NONSGML v1.0//EN
CALSCALE:GREGORIAN
METHOD:PUBLISH
X-WR-CALNAME:Lehigh Baptist Church
X-ORIGINAL-URL:https://lehighbaptistchurch.org
X-WR-CALDESC:Events for Lehigh Baptist Church
REFRESH-INTERVAL;VALUE=DURATION:PT1H
X-Robots-Tag:noindex
X-PUBLISHED-TTL:PT1H
BEGIN:VTIMEZONE
TZID:America/New_York
BEGIN:DAYLIGHT
TZOFFSETFROM:-0500
TZOFFSETTO:-0400
TZNAME:EDT
DTSTART:20260308T070000
END:DAYLIGHT
BEGIN:STANDARD
TZOFFSETFROM:-0400
TZOFFSETTO:-0500
TZNAME:EST
DTSTART:20261101T060000
END:STANDARD
BEGIN:DAYLIGHT
TZOFFSETFROM:-0500
TZOFFSETTO:-0400
TZNAME:EDT
DTSTART:20270314T070000
END:DAYLIGHT
BEGIN:STANDARD
TZOFFSETFROM:-0400
TZOFFSETTO:-0500
TZNAME:EST
DTSTART:20271107T060000
END:STANDARD
BEGIN:DAYLIGHT
TZOFFSETFROM:-0500
TZOFFSETTO:-0400
TZNAME:EDT
DTSTART:20280312T070000
END:DAYLIGHT
BEGIN:STANDARD
TZOFFSETFROM:-0400
TZOFFSETTO:-0500
TZNAME:EST
DTSTART:20281105T060000
END:STANDARD
END:VTIMEZONE
BEGIN:VEVENT
DTSTART;TZID=America/New_York:20270430T190000
DTEND;TZID=America/New_York:20270430T210000
DTSTAMP:20260419T221259
CREATED:20250615T183824Z
LAST-MODIFIED:20250615T183824Z
UID:10007748-1809111600-1809118800@lehighbaptistchurch.org
SUMMARY:Family Fellowship
DESCRIPTION:
URL:https://lehighbaptistchurch.org/event/family-fellowship/2027-04-30/
LOCATION:Lehigh Baptist Church\, 934 Alburger Avenue\, Philadelphia\, PA\, 19115\, United States
END:VEVENT
BEGIN:VEVENT
DTSTART;TZID=America/New_York:20270502T094500
DTEND;TZID=America/New_York:20270502T104500
DTSTAMP:20260419T221259
CREATED:20250106T184411Z
LAST-MODIFIED:20250106T184411Z
UID:10006582-1809251100-1809254700@lehighbaptistchurch.org
SUMMARY:Sunday School
DESCRIPTION:
URL:https://lehighbaptistchurch.org/event/sunday-school/2027-05-02/
LOCATION:Lehigh Baptist Church\, 934 Alburger Avenue\, Philadelphia\, PA\, 19115\, United States
END:VEVENT
BEGIN:VEVENT
DTSTART;TZID=America/New_York:20270502T110000
DTEND;TZID=America/New_York:20270502T121500
DTSTAMP:20260419T221259
CREATED:20250106T184636Z
LAST-MODIFIED:20250106T184636Z
UID:10006843-1809255600-1809260100@lehighbaptistchurch.org
SUMMARY:Sunday Morning Worship Service
DESCRIPTION:
URL:https://lehighbaptistchurch.org/event/sunday-morning-worship-service/2027-05-02/
LOCATION:Lehigh Baptist Church\, 934 Alburger Avenue\, Philadelphia\, PA\, 19115\, United States
END:VEVENT
BEGIN:VEVENT
DTSTART;TZID=America/New_York:20270505T191500
DTEND;TZID=America/New_York:20270505T201500
DTSTAMP:20260419T221259
CREATED:20250106T185455Z
LAST-MODIFIED:20250106T185455Z
UID:10007108-1809544500-1809548100@lehighbaptistchurch.org
SUMMARY:Midweek Prayer Meeting
DESCRIPTION:
URL:https://lehighbaptistchurch.org/event/midweek-prayer-meeting/2027-05-05/
LOCATION:Lehigh Baptist Church\, 934 Alburger Avenue\, Philadelphia\, PA\, 19115\, United States
END:VEVENT
BEGIN:VEVENT
DTSTART;TZID=America/New_York:20270507T190000
DTEND;TZID=America/New_York:20270507T210000
DTSTAMP:20260419T221259
CREATED:20250615T183824Z
LAST-MODIFIED:20250615T183824Z
UID:10007749-1809716400-1809723600@lehighbaptistchurch.org
SUMMARY:Family Fellowship
DESCRIPTION:
URL:https://lehighbaptistchurch.org/event/family-fellowship/2027-05-07/
LOCATION:Lehigh Baptist Church\, 934 Alburger Avenue\, Philadelphia\, PA\, 19115\, United States
END:VEVENT
BEGIN:VEVENT
DTSTART;TZID=America/New_York:20270508T083000
DTEND;TZID=America/New_York:20270508T110000
DTSTAMP:20260419T221259
CREATED:20250120T145235Z
LAST-MODIFIED:20250519T231123Z
UID:10007275-1809765000-1809774000@lehighbaptistchurch.org
SUMMARY:Men’s Fellowship & Prayer Breakfast
DESCRIPTION:
URL:https://lehighbaptistchurch.org/event/mens-fellowship-prayer-breakfast-2-2/2027-05-08/
LOCATION:Lehigh Baptist Church\, 934 Alburger Avenue\, Philadelphia\, PA\, 19115\, United States
END:VEVENT
BEGIN:VEVENT
DTSTART;TZID=America/New_York:20270508T113000
DTEND;TZID=America/New_York:20270508T133000
DTSTAMP:20260419T221259
CREATED:20251221T202454Z
LAST-MODIFIED:20251221T202455Z
UID:10008085-1809775800-1809783000@lehighbaptistchurch.org
SUMMARY:Women's Fellowship
DESCRIPTION:
URL:https://lehighbaptistchurch.org/event/womens-fellowship-2-2-2/2027-05-08/
LOCATION:Lehigh Baptist Church\, 934 Alburger Avenue\, Philadelphia\, PA\, 19115\, United States
END:VEVENT
BEGIN:VEVENT
DTSTART;TZID=America/New_York:20270509T094500
DTEND;TZID=America/New_York:20270509T104500
DTSTAMP:20260419T221259
CREATED:20250106T184411Z
LAST-MODIFIED:20250106T184411Z
UID:10006583-1809855900-1809859500@lehighbaptistchurch.org
SUMMARY:Sunday School
DESCRIPTION:
URL:https://lehighbaptistchurch.org/event/sunday-school/2027-05-09/
LOCATION:Lehigh Baptist Church\, 934 Alburger Avenue\, Philadelphia\, PA\, 19115\, United States
END:VEVENT
BEGIN:VEVENT
DTSTART;TZID=America/New_York:20270509T110000
DTEND;TZID=America/New_York:20270509T121500
DTSTAMP:20260419T221259
CREATED:20250106T184636Z
LAST-MODIFIED:20250106T184636Z
UID:10006844-1809860400-1809864900@lehighbaptistchurch.org
SUMMARY:Sunday Morning Worship Service
DESCRIPTION:
URL:https://lehighbaptistchurch.org/event/sunday-morning-worship-service/2027-05-09/
LOCATION:Lehigh Baptist Church\, 934 Alburger Avenue\, Philadelphia\, PA\, 19115\, United States
END:VEVENT
BEGIN:VEVENT
DTSTART;TZID=America/New_York:20270512T191500
DTEND;TZID=America/New_York:20270512T201500
DTSTAMP:20260419T221259
CREATED:20250106T185455Z
LAST-MODIFIED:20250106T185455Z
UID:10007109-1810149300-1810152900@lehighbaptistchurch.org
SUMMARY:Midweek Prayer Meeting
DESCRIPTION:
URL:https://lehighbaptistchurch.org/event/midweek-prayer-meeting/2027-05-12/
LOCATION:Lehigh Baptist Church\, 934 Alburger Avenue\, Philadelphia\, PA\, 19115\, United States
END:VEVENT
BEGIN:VEVENT
DTSTART;TZID=America/New_York:20270514T190000
DTEND;TZID=America/New_York:20270514T210000
DTSTAMP:20260419T221259
CREATED:20250615T183824Z
LAST-MODIFIED:20250615T183824Z
UID:10007750-1810321200-1810328400@lehighbaptistchurch.org
SUMMARY:Family Fellowship
DESCRIPTION:
URL:https://lehighbaptistchurch.org/event/family-fellowship/2027-05-14/
LOCATION:Lehigh Baptist Church\, 934 Alburger Avenue\, Philadelphia\, PA\, 19115\, United States
END:VEVENT
BEGIN:VEVENT
DTSTART;TZID=America/New_York:20270516T094500
DTEND;TZID=America/New_York:20270516T104500
DTSTAMP:20260419T221259
CREATED:20250106T184411Z
LAST-MODIFIED:20250106T184411Z
UID:10006584-1810460700-1810464300@lehighbaptistchurch.org
SUMMARY:Sunday School
DESCRIPTION:
URL:https://lehighbaptistchurch.org/event/sunday-school/2027-05-16/
LOCATION:Lehigh Baptist Church\, 934 Alburger Avenue\, Philadelphia\, PA\, 19115\, United States
END:VEVENT
BEGIN:VEVENT
DTSTART;TZID=America/New_York:20270516T110000
DTEND;TZID=America/New_York:20270516T121500
DTSTAMP:20260419T221259
CREATED:20250106T184636Z
LAST-MODIFIED:20250106T184636Z
UID:10006845-1810465200-1810469700@lehighbaptistchurch.org
SUMMARY:Sunday Morning Worship Service
DESCRIPTION:
URL:https://lehighbaptistchurch.org/event/sunday-morning-worship-service/2027-05-16/
LOCATION:Lehigh Baptist Church\, 934 Alburger Avenue\, Philadelphia\, PA\, 19115\, United States
END:VEVENT
BEGIN:VEVENT
DTSTART;TZID=America/New_York:20270519T191500
DTEND;TZID=America/New_York:20270519T201500
DTSTAMP:20260419T221259
CREATED:20250106T185455Z
LAST-MODIFIED:20250106T185455Z
UID:10007110-1810754100-1810757700@lehighbaptistchurch.org
SUMMARY:Midweek Prayer Meeting
DESCRIPTION:
URL:https://lehighbaptistchurch.org/event/midweek-prayer-meeting/2027-05-19/
LOCATION:Lehigh Baptist Church\, 934 Alburger Avenue\, Philadelphia\, PA\, 19115\, United States
END:VEVENT
BEGIN:VEVENT
DTSTART;TZID=America/New_York:20270521T190000
DTEND;TZID=America/New_York:20270521T210000
DTSTAMP:20260419T221259
CREATED:20250615T183824Z
LAST-MODIFIED:20250615T183824Z
UID:10007751-1810926000-1810933200@lehighbaptistchurch.org
SUMMARY:Family Fellowship
DESCRIPTION:
URL:https://lehighbaptistchurch.org/event/family-fellowship/2027-05-21/
LOCATION:Lehigh Baptist Church\, 934 Alburger Avenue\, Philadelphia\, PA\, 19115\, United States
END:VEVENT
BEGIN:VEVENT
DTSTART;TZID=America/New_York:20270523T094500
DTEND;TZID=America/New_York:20270523T104500
DTSTAMP:20260419T221259
CREATED:20250106T184411Z
LAST-MODIFIED:20250106T184411Z
UID:10006585-1811065500-1811069100@lehighbaptistchurch.org
SUMMARY:Sunday School
DESCRIPTION:
URL:https://lehighbaptistchurch.org/event/sunday-school/2027-05-23/
LOCATION:Lehigh Baptist Church\, 934 Alburger Avenue\, Philadelphia\, PA\, 19115\, United States
END:VEVENT
BEGIN:VEVENT
DTSTART;TZID=America/New_York:20270523T110000
DTEND;TZID=America/New_York:20270523T121500
DTSTAMP:20260419T221259
CREATED:20250106T184636Z
LAST-MODIFIED:20250106T184636Z
UID:10006846-1811070000-1811074500@lehighbaptistchurch.org
SUMMARY:Sunday Morning Worship Service
DESCRIPTION:
URL:https://lehighbaptistchurch.org/event/sunday-morning-worship-service/2027-05-23/
LOCATION:Lehigh Baptist Church\, 934 Alburger Avenue\, Philadelphia\, PA\, 19115\, United States
END:VEVENT
BEGIN:VEVENT
DTSTART;TZID=America/New_York:20270526T191500
DTEND;TZID=America/New_York:20270526T201500
DTSTAMP:20260419T221259
CREATED:20250106T185455Z
LAST-MODIFIED:20250106T185455Z
UID:10007111-1811358900-1811362500@lehighbaptistchurch.org
SUMMARY:Midweek Prayer Meeting
DESCRIPTION:
URL:https://lehighbaptistchurch.org/event/midweek-prayer-meeting/2027-05-26/
LOCATION:Lehigh Baptist Church\, 934 Alburger Avenue\, Philadelphia\, PA\, 19115\, United States
END:VEVENT
BEGIN:VEVENT
DTSTART;TZID=America/New_York:20270528T190000
DTEND;TZID=America/New_York:20270528T210000
DTSTAMP:20260419T221259
CREATED:20250615T183824Z
LAST-MODIFIED:20250615T183824Z
UID:10007752-1811530800-1811538000@lehighbaptistchurch.org
SUMMARY:Family Fellowship
DESCRIPTION:
URL:https://lehighbaptistchurch.org/event/family-fellowship/2027-05-28/
LOCATION:Lehigh Baptist Church\, 934 Alburger Avenue\, Philadelphia\, PA\, 19115\, United States
END:VEVENT
BEGIN:VEVENT
DTSTART;TZID=America/New_York:20270530T094500
DTEND;TZID=America/New_York:20270530T104500
DTSTAMP:20260419T221259
CREATED:20250106T184411Z
LAST-MODIFIED:20250106T184411Z
UID:10006586-1811670300-1811673900@lehighbaptistchurch.org
SUMMARY:Sunday School
DESCRIPTION:
URL:https://lehighbaptistchurch.org/event/sunday-school/2027-05-30/
LOCATION:Lehigh Baptist Church\, 934 Alburger Avenue\, Philadelphia\, PA\, 19115\, United States
END:VEVENT
BEGIN:VEVENT
DTSTART;TZID=America/New_York:20270530T110000
DTEND;TZID=America/New_York:20270530T121500
DTSTAMP:20260419T221259
CREATED:20250106T184636Z
LAST-MODIFIED:20250106T184636Z
UID:10006847-1811674800-1811679300@lehighbaptistchurch.org
SUMMARY:Sunday Morning Worship Service
DESCRIPTION:
URL:https://lehighbaptistchurch.org/event/sunday-morning-worship-service/2027-05-30/
LOCATION:Lehigh Baptist Church\, 934 Alburger Avenue\, Philadelphia\, PA\, 19115\, United States
END:VEVENT
BEGIN:VEVENT
DTSTART;TZID=America/New_York:20270602T191500
DTEND;TZID=America/New_York:20270602T201500
DTSTAMP:20260419T221259
CREATED:20250106T185455Z
LAST-MODIFIED:20250106T185455Z
UID:10007112-1811963700-1811967300@lehighbaptistchurch.org
SUMMARY:Midweek Prayer Meeting
DESCRIPTION:
URL:https://lehighbaptistchurch.org/event/midweek-prayer-meeting/2027-06-02/
LOCATION:Lehigh Baptist Church\, 934 Alburger Avenue\, Philadelphia\, PA\, 19115\, United States
END:VEVENT
BEGIN:VEVENT
DTSTART;TZID=America/New_York:20270604T190000
DTEND;TZID=America/New_York:20270604T210000
DTSTAMP:20260419T221259
CREATED:20250615T183824Z
LAST-MODIFIED:20250615T183824Z
UID:10007753-1812135600-1812142800@lehighbaptistchurch.org
SUMMARY:Family Fellowship
DESCRIPTION:
URL:https://lehighbaptistchurch.org/event/family-fellowship/2027-06-04/
LOCATION:Lehigh Baptist Church\, 934 Alburger Avenue\, Philadelphia\, PA\, 19115\, United States
END:VEVENT
BEGIN:VEVENT
DTSTART;TZID=America/New_York:20270606T094500
DTEND;TZID=America/New_York:20270606T104500
DTSTAMP:20260419T221259
CREATED:20250106T184411Z
LAST-MODIFIED:20250106T184411Z
UID:10006587-1812275100-1812278700@lehighbaptistchurch.org
SUMMARY:Sunday School
DESCRIPTION:
URL:https://lehighbaptistchurch.org/event/sunday-school/2027-06-06/
LOCATION:Lehigh Baptist Church\, 934 Alburger Avenue\, Philadelphia\, PA\, 19115\, United States
END:VEVENT
BEGIN:VEVENT
DTSTART;TZID=America/New_York:20270606T110000
DTEND;TZID=America/New_York:20270606T121500
DTSTAMP:20260419T221259
CREATED:20250106T184636Z
LAST-MODIFIED:20250106T184636Z
UID:10006848-1812279600-1812284100@lehighbaptistchurch.org
SUMMARY:Sunday Morning Worship Service
DESCRIPTION:
URL:https://lehighbaptistchurch.org/event/sunday-morning-worship-service/2027-06-06/
LOCATION:Lehigh Baptist Church\, 934 Alburger Avenue\, Philadelphia\, PA\, 19115\, United States
END:VEVENT
BEGIN:VEVENT
DTSTART;TZID=America/New_York:20270609T191500
DTEND;TZID=America/New_York:20270609T201500
DTSTAMP:20260419T221259
CREATED:20250106T185455Z
LAST-MODIFIED:20250106T185455Z
UID:10007113-1812568500-1812572100@lehighbaptistchurch.org
SUMMARY:Midweek Prayer Meeting
DESCRIPTION:
URL:https://lehighbaptistchurch.org/event/midweek-prayer-meeting/2027-06-09/
LOCATION:Lehigh Baptist Church\, 934 Alburger Avenue\, Philadelphia\, PA\, 19115\, United States
END:VEVENT
BEGIN:VEVENT
DTSTART;TZID=America/New_York:20270611T190000
DTEND;TZID=America/New_York:20270611T210000
DTSTAMP:20260419T221259
CREATED:20250615T183824Z
LAST-MODIFIED:20250615T183824Z
UID:10007754-1812740400-1812747600@lehighbaptistchurch.org
SUMMARY:Family Fellowship
DESCRIPTION:
URL:https://lehighbaptistchurch.org/event/family-fellowship/2027-06-11/
LOCATION:Lehigh Baptist Church\, 934 Alburger Avenue\, Philadelphia\, PA\, 19115\, United States
END:VEVENT
BEGIN:VEVENT
DTSTART;TZID=America/New_York:20270612T083000
DTEND;TZID=America/New_York:20270612T110000
DTSTAMP:20260419T221259
CREATED:20250120T145235Z
LAST-MODIFIED:20250519T231123Z
UID:10007276-1812789000-1812798000@lehighbaptistchurch.org
SUMMARY:Men’s Fellowship & Prayer Breakfast
DESCRIPTION:
URL:https://lehighbaptistchurch.org/event/mens-fellowship-prayer-breakfast-2-2/2027-06-12/
LOCATION:Lehigh Baptist Church\, 934 Alburger Avenue\, Philadelphia\, PA\, 19115\, United States
END:VEVENT
BEGIN:VEVENT
DTSTART;TZID=America/New_York:20270612T113000
DTEND;TZID=America/New_York:20270612T133000
DTSTAMP:20260419T221259
CREATED:20251221T202454Z
LAST-MODIFIED:20251221T202455Z
UID:10008086-1812799800-1812807000@lehighbaptistchurch.org
SUMMARY:Women's Fellowship
DESCRIPTION:
URL:https://lehighbaptistchurch.org/event/womens-fellowship-2-2-2/2027-06-12/
LOCATION:Lehigh Baptist Church\, 934 Alburger Avenue\, Philadelphia\, PA\, 19115\, United States
END:VEVENT
BEGIN:VEVENT
DTSTART;TZID=America/New_York:20270613T094500
DTEND;TZID=America/New_York:20270613T104500
DTSTAMP:20260419T221259
CREATED:20250106T184411Z
LAST-MODIFIED:20250106T184411Z
UID:10006588-1812879900-1812883500@lehighbaptistchurch.org
SUMMARY:Sunday School
DESCRIPTION:
URL:https://lehighbaptistchurch.org/event/sunday-school/2027-06-13/
LOCATION:Lehigh Baptist Church\, 934 Alburger Avenue\, Philadelphia\, PA\, 19115\, United States
END:VEVENT
END:VCALENDAR