BEGIN:VCALENDAR
VERSION:2.0
PRODID:-//Lehigh Baptist Church - ECPv6.15.20//NONSGML v1.0//EN
CALSCALE:GREGORIAN
METHOD:PUBLISH
X-WR-CALNAME:Lehigh Baptist Church
X-ORIGINAL-URL:https://lehighbaptistchurch.org
X-WR-CALDESC:Events for Lehigh Baptist Church
REFRESH-INTERVAL;VALUE=DURATION:PT1H
X-Robots-Tag:noindex
X-PUBLISHED-TTL:PT1H
BEGIN:VTIMEZONE
TZID:America/New_York
BEGIN:DAYLIGHT
TZOFFSETFROM:-0500
TZOFFSETTO:-0400
TZNAME:EDT
DTSTART:20250309T070000
END:DAYLIGHT
BEGIN:STANDARD
TZOFFSETFROM:-0400
TZOFFSETTO:-0500
TZNAME:EST
DTSTART:20251102T060000
END:STANDARD
BEGIN:DAYLIGHT
TZOFFSETFROM:-0500
TZOFFSETTO:-0400
TZNAME:EDT
DTSTART:20260308T070000
END:DAYLIGHT
BEGIN:STANDARD
TZOFFSETFROM:-0400
TZOFFSETTO:-0500
TZNAME:EST
DTSTART:20261101T060000
END:STANDARD
BEGIN:DAYLIGHT
TZOFFSETFROM:-0500
TZOFFSETTO:-0400
TZNAME:EDT
DTSTART:20270314T070000
END:DAYLIGHT
BEGIN:STANDARD
TZOFFSETFROM:-0400
TZOFFSETTO:-0500
TZNAME:EST
DTSTART:20271107T060000
END:STANDARD
END:VTIMEZONE
BEGIN:VEVENT
DTSTART;TZID=America/New_York:20260624T191500
DTEND;TZID=America/New_York:20260624T201500
DTSTAMP:20260419T140715
CREATED:20250106T185455Z
LAST-MODIFIED:20250106T185455Z
UID:10007063-1782328500-1782332100@lehighbaptistchurch.org
SUMMARY:Midweek Prayer Meeting
DESCRIPTION:
URL:https://lehighbaptistchurch.org/event/midweek-prayer-meeting/2026-06-24/
LOCATION:Lehigh Baptist Church\, 934 Alburger Avenue\, Philadelphia\, PA\, 19115\, United States
END:VEVENT
BEGIN:VEVENT
DTSTART;TZID=America/New_York:20260626T190000
DTEND;TZID=America/New_York:20260626T210000
DTSTAMP:20260419T140715
CREATED:20250615T183824Z
LAST-MODIFIED:20250615T183824Z
UID:10007704-1782500400-1782507600@lehighbaptistchurch.org
SUMMARY:Family Fellowship
DESCRIPTION:
URL:https://lehighbaptistchurch.org/event/family-fellowship/2026-06-26/
LOCATION:Lehigh Baptist Church\, 934 Alburger Avenue\, Philadelphia\, PA\, 19115\, United States
END:VEVENT
BEGIN:VEVENT
DTSTART;TZID=America/New_York:20260628T094500
DTEND;TZID=America/New_York:20260628T104500
DTSTAMP:20260419T140715
CREATED:20250106T184411Z
LAST-MODIFIED:20250106T184411Z
UID:10006538-1782639900-1782643500@lehighbaptistchurch.org
SUMMARY:Sunday School
DESCRIPTION:
URL:https://lehighbaptistchurch.org/event/sunday-school/2026-06-28/
LOCATION:Lehigh Baptist Church\, 934 Alburger Avenue\, Philadelphia\, PA\, 19115\, United States
END:VEVENT
BEGIN:VEVENT
DTSTART;TZID=America/New_York:20260628T110000
DTEND;TZID=America/New_York:20260628T121500
DTSTAMP:20260419T140715
CREATED:20250106T184636Z
LAST-MODIFIED:20250106T184636Z
UID:10006799-1782644400-1782648900@lehighbaptistchurch.org
SUMMARY:Sunday Morning Worship Service
DESCRIPTION:
URL:https://lehighbaptistchurch.org/event/sunday-morning-worship-service/2026-06-28/
LOCATION:Lehigh Baptist Church\, 934 Alburger Avenue\, Philadelphia\, PA\, 19115\, United States
END:VEVENT
BEGIN:VEVENT
DTSTART;TZID=America/New_York:20260701T191500
DTEND;TZID=America/New_York:20260701T201500
DTSTAMP:20260419T140715
CREATED:20250106T185455Z
LAST-MODIFIED:20250106T185455Z
UID:10007064-1782933300-1782936900@lehighbaptistchurch.org
SUMMARY:Midweek Prayer Meeting
DESCRIPTION:
URL:https://lehighbaptistchurch.org/event/midweek-prayer-meeting/2026-07-01/
LOCATION:Lehigh Baptist Church\, 934 Alburger Avenue\, Philadelphia\, PA\, 19115\, United States
END:VEVENT
BEGIN:VEVENT
DTSTART;TZID=America/New_York:20260703T190000
DTEND;TZID=America/New_York:20260703T210000
DTSTAMP:20260419T140715
CREATED:20250615T183824Z
LAST-MODIFIED:20250615T183824Z
UID:10007705-1783105200-1783112400@lehighbaptistchurch.org
SUMMARY:Family Fellowship
DESCRIPTION:
URL:https://lehighbaptistchurch.org/event/family-fellowship/2026-07-03/
LOCATION:Lehigh Baptist Church\, 934 Alburger Avenue\, Philadelphia\, PA\, 19115\, United States
END:VEVENT
BEGIN:VEVENT
DTSTART;TZID=America/New_York:20260705T094500
DTEND;TZID=America/New_York:20260705T104500
DTSTAMP:20260419T140715
CREATED:20250106T184411Z
LAST-MODIFIED:20250106T184411Z
UID:10006539-1783244700-1783248300@lehighbaptistchurch.org
SUMMARY:Sunday School
DESCRIPTION:
URL:https://lehighbaptistchurch.org/event/sunday-school/2026-07-05/
LOCATION:Lehigh Baptist Church\, 934 Alburger Avenue\, Philadelphia\, PA\, 19115\, United States
END:VEVENT
BEGIN:VEVENT
DTSTART;TZID=America/New_York:20260705T110000
DTEND;TZID=America/New_York:20260705T121500
DTSTAMP:20260419T140715
CREATED:20250106T184636Z
LAST-MODIFIED:20250106T184636Z
UID:10006800-1783249200-1783253700@lehighbaptistchurch.org
SUMMARY:Sunday Morning Worship Service
DESCRIPTION:
URL:https://lehighbaptistchurch.org/event/sunday-morning-worship-service/2026-07-05/
LOCATION:Lehigh Baptist Church\, 934 Alburger Avenue\, Philadelphia\, PA\, 19115\, United States
END:VEVENT
BEGIN:VEVENT
DTSTART;TZID=America/New_York:20260708T191500
DTEND;TZID=America/New_York:20260708T201500
DTSTAMP:20260419T140715
CREATED:20250106T185455Z
LAST-MODIFIED:20250106T185455Z
UID:10007065-1783538100-1783541700@lehighbaptistchurch.org
SUMMARY:Midweek Prayer Meeting
DESCRIPTION:
URL:https://lehighbaptistchurch.org/event/midweek-prayer-meeting/2026-07-08/
LOCATION:Lehigh Baptist Church\, 934 Alburger Avenue\, Philadelphia\, PA\, 19115\, United States
END:VEVENT
BEGIN:VEVENT
DTSTART;TZID=America/New_York:20260710T190000
DTEND;TZID=America/New_York:20260710T210000
DTSTAMP:20260419T140715
CREATED:20250615T183824Z
LAST-MODIFIED:20250615T183824Z
UID:10007706-1783710000-1783717200@lehighbaptistchurch.org
SUMMARY:Family Fellowship
DESCRIPTION:
URL:https://lehighbaptistchurch.org/event/family-fellowship/2026-07-10/
LOCATION:Lehigh Baptist Church\, 934 Alburger Avenue\, Philadelphia\, PA\, 19115\, United States
END:VEVENT
BEGIN:VEVENT
DTSTART;TZID=America/New_York:20260711T083000
DTEND;TZID=America/New_York:20260711T110000
DTSTAMP:20260419T140715
CREATED:20250120T145235Z
LAST-MODIFIED:20250519T231123Z
UID:10007265-1783758600-1783767600@lehighbaptistchurch.org
SUMMARY:Men’s Fellowship & Prayer Breakfast
DESCRIPTION:
URL:https://lehighbaptistchurch.org/event/mens-fellowship-prayer-breakfast-2-2/2026-07-11/
LOCATION:Lehigh Baptist Church\, 934 Alburger Avenue\, Philadelphia\, PA\, 19115\, United States
END:VEVENT
BEGIN:VEVENT
DTSTART;TZID=America/New_York:20260711T113000
DTEND;TZID=America/New_York:20260711T133000
DTSTAMP:20260419T140715
CREATED:20251221T202454Z
LAST-MODIFIED:20251221T202455Z
UID:10008075-1783769400-1783776600@lehighbaptistchurch.org
SUMMARY:Women's Fellowship
DESCRIPTION:
URL:https://lehighbaptistchurch.org/event/womens-fellowship-2-2-2/2026-07-11/
LOCATION:Lehigh Baptist Church\, 934 Alburger Avenue\, Philadelphia\, PA\, 19115\, United States
END:VEVENT
BEGIN:VEVENT
DTSTART;TZID=America/New_York:20260712T094500
DTEND;TZID=America/New_York:20260712T104500
DTSTAMP:20260419T140715
CREATED:20250106T184411Z
LAST-MODIFIED:20250106T184411Z
UID:10006540-1783849500-1783853100@lehighbaptistchurch.org
SUMMARY:Sunday School
DESCRIPTION:
URL:https://lehighbaptistchurch.org/event/sunday-school/2026-07-12/
LOCATION:Lehigh Baptist Church\, 934 Alburger Avenue\, Philadelphia\, PA\, 19115\, United States
END:VEVENT
BEGIN:VEVENT
DTSTART;TZID=America/New_York:20260712T110000
DTEND;TZID=America/New_York:20260712T121500
DTSTAMP:20260419T140715
CREATED:20250106T184636Z
LAST-MODIFIED:20250106T184636Z
UID:10006801-1783854000-1783858500@lehighbaptistchurch.org
SUMMARY:Sunday Morning Worship Service
DESCRIPTION:
URL:https://lehighbaptistchurch.org/event/sunday-morning-worship-service/2026-07-12/
LOCATION:Lehigh Baptist Church\, 934 Alburger Avenue\, Philadelphia\, PA\, 19115\, United States
END:VEVENT
BEGIN:VEVENT
DTSTART;TZID=America/New_York:20260715T191500
DTEND;TZID=America/New_York:20260715T201500
DTSTAMP:20260419T140715
CREATED:20250106T185455Z
LAST-MODIFIED:20250106T185455Z
UID:10007066-1784142900-1784146500@lehighbaptistchurch.org
SUMMARY:Midweek Prayer Meeting
DESCRIPTION:
URL:https://lehighbaptistchurch.org/event/midweek-prayer-meeting/2026-07-15/
LOCATION:Lehigh Baptist Church\, 934 Alburger Avenue\, Philadelphia\, PA\, 19115\, United States
END:VEVENT
BEGIN:VEVENT
DTSTART;TZID=America/New_York:20260717T190000
DTEND;TZID=America/New_York:20260717T210000
DTSTAMP:20260419T140715
CREATED:20250615T183824Z
LAST-MODIFIED:20250615T183824Z
UID:10007707-1784314800-1784322000@lehighbaptistchurch.org
SUMMARY:Family Fellowship
DESCRIPTION:
URL:https://lehighbaptistchurch.org/event/family-fellowship/2026-07-17/
LOCATION:Lehigh Baptist Church\, 934 Alburger Avenue\, Philadelphia\, PA\, 19115\, United States
END:VEVENT
BEGIN:VEVENT
DTSTART;TZID=America/New_York:20260719T094500
DTEND;TZID=America/New_York:20260719T104500
DTSTAMP:20260419T140715
CREATED:20250106T184411Z
LAST-MODIFIED:20250106T184411Z
UID:10006541-1784454300-1784457900@lehighbaptistchurch.org
SUMMARY:Sunday School
DESCRIPTION:
URL:https://lehighbaptistchurch.org/event/sunday-school/2026-07-19/
LOCATION:Lehigh Baptist Church\, 934 Alburger Avenue\, Philadelphia\, PA\, 19115\, United States
END:VEVENT
BEGIN:VEVENT
DTSTART;TZID=America/New_York:20260719T110000
DTEND;TZID=America/New_York:20260719T121500
DTSTAMP:20260419T140715
CREATED:20250106T184636Z
LAST-MODIFIED:20250106T184636Z
UID:10006802-1784458800-1784463300@lehighbaptistchurch.org
SUMMARY:Sunday Morning Worship Service
DESCRIPTION:
URL:https://lehighbaptistchurch.org/event/sunday-morning-worship-service/2026-07-19/
LOCATION:Lehigh Baptist Church\, 934 Alburger Avenue\, Philadelphia\, PA\, 19115\, United States
END:VEVENT
BEGIN:VEVENT
DTSTART;TZID=America/New_York:20260722T191500
DTEND;TZID=America/New_York:20260722T201500
DTSTAMP:20260419T140715
CREATED:20250106T185455Z
LAST-MODIFIED:20250106T185455Z
UID:10007067-1784747700-1784751300@lehighbaptistchurch.org
SUMMARY:Midweek Prayer Meeting
DESCRIPTION:
URL:https://lehighbaptistchurch.org/event/midweek-prayer-meeting/2026-07-22/
LOCATION:Lehigh Baptist Church\, 934 Alburger Avenue\, Philadelphia\, PA\, 19115\, United States
END:VEVENT
BEGIN:VEVENT
DTSTART;TZID=America/New_York:20260724T190000
DTEND;TZID=America/New_York:20260724T210000
DTSTAMP:20260419T140715
CREATED:20250615T183824Z
LAST-MODIFIED:20250615T183824Z
UID:10007708-1784919600-1784926800@lehighbaptistchurch.org
SUMMARY:Family Fellowship
DESCRIPTION:
URL:https://lehighbaptistchurch.org/event/family-fellowship/2026-07-24/
LOCATION:Lehigh Baptist Church\, 934 Alburger Avenue\, Philadelphia\, PA\, 19115\, United States
END:VEVENT
BEGIN:VEVENT
DTSTART;TZID=America/New_York:20260726T094500
DTEND;TZID=America/New_York:20260726T104500
DTSTAMP:20260419T140715
CREATED:20250106T184411Z
LAST-MODIFIED:20250106T184411Z
UID:10006542-1785059100-1785062700@lehighbaptistchurch.org
SUMMARY:Sunday School
DESCRIPTION:
URL:https://lehighbaptistchurch.org/event/sunday-school/2026-07-26/
LOCATION:Lehigh Baptist Church\, 934 Alburger Avenue\, Philadelphia\, PA\, 19115\, United States
END:VEVENT
BEGIN:VEVENT
DTSTART;TZID=America/New_York:20260726T110000
DTEND;TZID=America/New_York:20260726T121500
DTSTAMP:20260419T140715
CREATED:20250106T184636Z
LAST-MODIFIED:20250106T184636Z
UID:10006803-1785063600-1785068100@lehighbaptistchurch.org
SUMMARY:Sunday Morning Worship Service
DESCRIPTION:
URL:https://lehighbaptistchurch.org/event/sunday-morning-worship-service/2026-07-26/
LOCATION:Lehigh Baptist Church\, 934 Alburger Avenue\, Philadelphia\, PA\, 19115\, United States
END:VEVENT
BEGIN:VEVENT
DTSTART;TZID=America/New_York:20260729T191500
DTEND;TZID=America/New_York:20260729T201500
DTSTAMP:20260419T140715
CREATED:20250106T185455Z
LAST-MODIFIED:20250106T185455Z
UID:10007068-1785352500-1785356100@lehighbaptistchurch.org
SUMMARY:Midweek Prayer Meeting
DESCRIPTION:
URL:https://lehighbaptistchurch.org/event/midweek-prayer-meeting/2026-07-29/
LOCATION:Lehigh Baptist Church\, 934 Alburger Avenue\, Philadelphia\, PA\, 19115\, United States
END:VEVENT
BEGIN:VEVENT
DTSTART;TZID=America/New_York:20260731T190000
DTEND;TZID=America/New_York:20260731T210000
DTSTAMP:20260419T140715
CREATED:20250615T183824Z
LAST-MODIFIED:20250615T183824Z
UID:10007709-1785524400-1785531600@lehighbaptistchurch.org
SUMMARY:Family Fellowship
DESCRIPTION:
URL:https://lehighbaptistchurch.org/event/family-fellowship/2026-07-31/
LOCATION:Lehigh Baptist Church\, 934 Alburger Avenue\, Philadelphia\, PA\, 19115\, United States
END:VEVENT
BEGIN:VEVENT
DTSTART;TZID=America/New_York:20260802T094500
DTEND;TZID=America/New_York:20260802T104500
DTSTAMP:20260419T140715
CREATED:20250106T184411Z
LAST-MODIFIED:20250106T184411Z
UID:10006543-1785663900-1785667500@lehighbaptistchurch.org
SUMMARY:Sunday School
DESCRIPTION:
URL:https://lehighbaptistchurch.org/event/sunday-school/2026-08-02/
LOCATION:Lehigh Baptist Church\, 934 Alburger Avenue\, Philadelphia\, PA\, 19115\, United States
END:VEVENT
BEGIN:VEVENT
DTSTART;TZID=America/New_York:20260802T110000
DTEND;TZID=America/New_York:20260802T121500
DTSTAMP:20260419T140715
CREATED:20250106T184636Z
LAST-MODIFIED:20250106T184636Z
UID:10006804-1785668400-1785672900@lehighbaptistchurch.org
SUMMARY:Sunday Morning Worship Service
DESCRIPTION:
URL:https://lehighbaptistchurch.org/event/sunday-morning-worship-service/2026-08-02/
LOCATION:Lehigh Baptist Church\, 934 Alburger Avenue\, Philadelphia\, PA\, 19115\, United States
END:VEVENT
BEGIN:VEVENT
DTSTART;TZID=America/New_York:20260805T191500
DTEND;TZID=America/New_York:20260805T201500
DTSTAMP:20260419T140715
CREATED:20250106T185455Z
LAST-MODIFIED:20250106T185455Z
UID:10007069-1785957300-1785960900@lehighbaptistchurch.org
SUMMARY:Midweek Prayer Meeting
DESCRIPTION:
URL:https://lehighbaptistchurch.org/event/midweek-prayer-meeting/2026-08-05/
LOCATION:Lehigh Baptist Church\, 934 Alburger Avenue\, Philadelphia\, PA\, 19115\, United States
END:VEVENT
BEGIN:VEVENT
DTSTART;TZID=America/New_York:20260807T190000
DTEND;TZID=America/New_York:20260807T210000
DTSTAMP:20260419T140715
CREATED:20250615T183824Z
LAST-MODIFIED:20250615T183824Z
UID:10007710-1786129200-1786136400@lehighbaptistchurch.org
SUMMARY:Family Fellowship
DESCRIPTION:
URL:https://lehighbaptistchurch.org/event/family-fellowship/2026-08-07/
LOCATION:Lehigh Baptist Church\, 934 Alburger Avenue\, Philadelphia\, PA\, 19115\, United States
END:VEVENT
BEGIN:VEVENT
DTSTART;TZID=America/New_York:20260808T083000
DTEND;TZID=America/New_York:20260808T110000
DTSTAMP:20260419T140715
CREATED:20250120T145235Z
LAST-MODIFIED:20250519T231123Z
UID:10007266-1786177800-1786186800@lehighbaptistchurch.org
SUMMARY:Men’s Fellowship & Prayer Breakfast
DESCRIPTION:
URL:https://lehighbaptistchurch.org/event/mens-fellowship-prayer-breakfast-2-2/2026-08-08/
LOCATION:Lehigh Baptist Church\, 934 Alburger Avenue\, Philadelphia\, PA\, 19115\, United States
END:VEVENT
BEGIN:VEVENT
DTSTART;TZID=America/New_York:20260808T113000
DTEND;TZID=America/New_York:20260808T133000
DTSTAMP:20260419T140715
CREATED:20251221T202454Z
LAST-MODIFIED:20251221T202455Z
UID:10008076-1786188600-1786195800@lehighbaptistchurch.org
SUMMARY:Women's Fellowship
DESCRIPTION:
URL:https://lehighbaptistchurch.org/event/womens-fellowship-2-2-2/2026-08-08/
LOCATION:Lehigh Baptist Church\, 934 Alburger Avenue\, Philadelphia\, PA\, 19115\, United States
END:VEVENT
END:VCALENDAR