BEGIN:VCALENDAR
VERSION:2.0
PRODID:-//Lehigh Baptist Church - ECPv6.15.20//NONSGML v1.0//EN
CALSCALE:GREGORIAN
METHOD:PUBLISH
X-WR-CALNAME:Lehigh Baptist Church
X-ORIGINAL-URL:https://lehighbaptistchurch.org
X-WR-CALDESC:Events for Lehigh Baptist Church
REFRESH-INTERVAL;VALUE=DURATION:PT1H
X-Robots-Tag:noindex
X-PUBLISHED-TTL:PT1H
BEGIN:VTIMEZONE
TZID:America/New_York
BEGIN:DAYLIGHT
TZOFFSETFROM:-0500
TZOFFSETTO:-0400
TZNAME:EDT
DTSTART:20280312T070000
END:DAYLIGHT
BEGIN:STANDARD
TZOFFSETFROM:-0400
TZOFFSETTO:-0500
TZNAME:EST
DTSTART:20281105T060000
END:STANDARD
BEGIN:DAYLIGHT
TZOFFSETFROM:-0500
TZOFFSETTO:-0400
TZNAME:EDT
DTSTART:20290311T070000
END:DAYLIGHT
BEGIN:STANDARD
TZOFFSETFROM:-0400
TZOFFSETTO:-0500
TZNAME:EST
DTSTART:20291104T060000
END:STANDARD
BEGIN:DAYLIGHT
TZOFFSETFROM:-0500
TZOFFSETTO:-0400
TZNAME:EDT
DTSTART:20300310T070000
END:DAYLIGHT
BEGIN:STANDARD
TZOFFSETFROM:-0400
TZOFFSETTO:-0500
TZNAME:EST
DTSTART:20301103T060000
END:STANDARD
END:VTIMEZONE
BEGIN:VEVENT
DTSTART;TZID=America/New_York:20290107T110000
DTEND;TZID=America/New_York:20290107T121500
DTSTAMP:20260422T051408
CREATED:20250106T184636Z
LAST-MODIFIED:20250106T184636Z
UID:10006931-1862478000-1862482500@lehighbaptistchurch.org
SUMMARY:Sunday Morning Worship Service
DESCRIPTION:
URL:https://lehighbaptistchurch.org/event/sunday-morning-worship-service/2029-01-07/
LOCATION:Lehigh Baptist Church\, 934 Alburger Avenue\, Philadelphia\, PA\, 19115\, United States
END:VEVENT
BEGIN:VEVENT
DTSTART;TZID=America/New_York:20290110T191500
DTEND;TZID=America/New_York:20290110T201500
DTSTAMP:20260422T051408
CREATED:20250106T185455Z
LAST-MODIFIED:20250106T185455Z
UID:10007196-1862766900-1862770500@lehighbaptistchurch.org
SUMMARY:Midweek Prayer Meeting
DESCRIPTION:
URL:https://lehighbaptistchurch.org/event/midweek-prayer-meeting/2029-01-10/
LOCATION:Lehigh Baptist Church\, 934 Alburger Avenue\, Philadelphia\, PA\, 19115\, United States
END:VEVENT
BEGIN:VEVENT
DTSTART;TZID=America/New_York:20290112T190000
DTEND;TZID=America/New_York:20290112T210000
DTSTAMP:20260422T051408
CREATED:20250615T183824Z
LAST-MODIFIED:20250615T183824Z
UID:10007837-1862938800-1862946000@lehighbaptistchurch.org
SUMMARY:Family Fellowship
DESCRIPTION:
URL:https://lehighbaptistchurch.org/event/family-fellowship/2029-01-12/
LOCATION:Lehigh Baptist Church\, 934 Alburger Avenue\, Philadelphia\, PA\, 19115\, United States
END:VEVENT
BEGIN:VEVENT
DTSTART;TZID=America/New_York:20290113T083000
DTEND;TZID=America/New_York:20290113T110000
DTSTAMP:20260422T051408
CREATED:20250120T145235Z
LAST-MODIFIED:20250519T231123Z
UID:10007295-1862987400-1862996400@lehighbaptistchurch.org
SUMMARY:Men’s Fellowship & Prayer Breakfast
DESCRIPTION:
URL:https://lehighbaptistchurch.org/event/mens-fellowship-prayer-breakfast-2-2/2029-01-13/
LOCATION:Lehigh Baptist Church\, 934 Alburger Avenue\, Philadelphia\, PA\, 19115\, United States
END:VEVENT
BEGIN:VEVENT
DTSTART;TZID=America/New_York:20290113T113000
DTEND;TZID=America/New_York:20290113T133000
DTSTAMP:20260422T051408
CREATED:20251221T202454Z
LAST-MODIFIED:20251221T202455Z
UID:10008105-1862998200-1863005400@lehighbaptistchurch.org
SUMMARY:Women's Fellowship
DESCRIPTION:
URL:https://lehighbaptistchurch.org/event/womens-fellowship-2-2-2/2029-01-13/
LOCATION:Lehigh Baptist Church\, 934 Alburger Avenue\, Philadelphia\, PA\, 19115\, United States
END:VEVENT
BEGIN:VEVENT
DTSTART;TZID=America/New_York:20290114T094500
DTEND;TZID=America/New_York:20290114T104500
DTSTAMP:20260422T051408
CREATED:20250106T184411Z
LAST-MODIFIED:20250106T184411Z
UID:10006671-1863078300-1863081900@lehighbaptistchurch.org
SUMMARY:Sunday School
DESCRIPTION:
URL:https://lehighbaptistchurch.org/event/sunday-school/2029-01-14/
LOCATION:Lehigh Baptist Church\, 934 Alburger Avenue\, Philadelphia\, PA\, 19115\, United States
END:VEVENT
BEGIN:VEVENT
DTSTART;TZID=America/New_York:20290114T110000
DTEND;TZID=America/New_York:20290114T121500
DTSTAMP:20260422T051408
CREATED:20250106T184636Z
LAST-MODIFIED:20250106T184636Z
UID:10006932-1863082800-1863087300@lehighbaptistchurch.org
SUMMARY:Sunday Morning Worship Service
DESCRIPTION:
URL:https://lehighbaptistchurch.org/event/sunday-morning-worship-service/2029-01-14/
LOCATION:Lehigh Baptist Church\, 934 Alburger Avenue\, Philadelphia\, PA\, 19115\, United States
END:VEVENT
BEGIN:VEVENT
DTSTART;TZID=America/New_York:20290117T191500
DTEND;TZID=America/New_York:20290117T201500
DTSTAMP:20260422T051408
CREATED:20250106T185455Z
LAST-MODIFIED:20250106T185455Z
UID:10007197-1863371700-1863375300@lehighbaptistchurch.org
SUMMARY:Midweek Prayer Meeting
DESCRIPTION:
URL:https://lehighbaptistchurch.org/event/midweek-prayer-meeting/2029-01-17/
LOCATION:Lehigh Baptist Church\, 934 Alburger Avenue\, Philadelphia\, PA\, 19115\, United States
END:VEVENT
BEGIN:VEVENT
DTSTART;TZID=America/New_York:20290119T190000
DTEND;TZID=America/New_York:20290119T210000
DTSTAMP:20260422T051408
CREATED:20250615T183824Z
LAST-MODIFIED:20250615T183824Z
UID:10007838-1863543600-1863550800@lehighbaptistchurch.org
SUMMARY:Family Fellowship
DESCRIPTION:
URL:https://lehighbaptistchurch.org/event/family-fellowship/2029-01-19/
LOCATION:Lehigh Baptist Church\, 934 Alburger Avenue\, Philadelphia\, PA\, 19115\, United States
END:VEVENT
BEGIN:VEVENT
DTSTART;TZID=America/New_York:20290121T094500
DTEND;TZID=America/New_York:20290121T104500
DTSTAMP:20260422T051408
CREATED:20250106T184411Z
LAST-MODIFIED:20250106T184411Z
UID:10006672-1863683100-1863686700@lehighbaptistchurch.org
SUMMARY:Sunday School
DESCRIPTION:
URL:https://lehighbaptistchurch.org/event/sunday-school/2029-01-21/
LOCATION:Lehigh Baptist Church\, 934 Alburger Avenue\, Philadelphia\, PA\, 19115\, United States
END:VEVENT
BEGIN:VEVENT
DTSTART;TZID=America/New_York:20290121T110000
DTEND;TZID=America/New_York:20290121T121500
DTSTAMP:20260422T051408
CREATED:20250106T184636Z
LAST-MODIFIED:20250106T184636Z
UID:10006933-1863687600-1863692100@lehighbaptistchurch.org
SUMMARY:Sunday Morning Worship Service
DESCRIPTION:
URL:https://lehighbaptistchurch.org/event/sunday-morning-worship-service/2029-01-21/
LOCATION:Lehigh Baptist Church\, 934 Alburger Avenue\, Philadelphia\, PA\, 19115\, United States
END:VEVENT
BEGIN:VEVENT
DTSTART;TZID=America/New_York:20290124T191500
DTEND;TZID=America/New_York:20290124T201500
DTSTAMP:20260422T051408
CREATED:20250106T185455Z
LAST-MODIFIED:20250106T185455Z
UID:10007198-1863976500-1863980100@lehighbaptistchurch.org
SUMMARY:Midweek Prayer Meeting
DESCRIPTION:
URL:https://lehighbaptistchurch.org/event/midweek-prayer-meeting/2029-01-24/
LOCATION:Lehigh Baptist Church\, 934 Alburger Avenue\, Philadelphia\, PA\, 19115\, United States
END:VEVENT
BEGIN:VEVENT
DTSTART;TZID=America/New_York:20290126T190000
DTEND;TZID=America/New_York:20290126T210000
DTSTAMP:20260422T051408
CREATED:20250615T183824Z
LAST-MODIFIED:20250615T183824Z
UID:10007839-1864148400-1864155600@lehighbaptistchurch.org
SUMMARY:Family Fellowship
DESCRIPTION:
URL:https://lehighbaptistchurch.org/event/family-fellowship/2029-01-26/
LOCATION:Lehigh Baptist Church\, 934 Alburger Avenue\, Philadelphia\, PA\, 19115\, United States
END:VEVENT
BEGIN:VEVENT
DTSTART;TZID=America/New_York:20290128T094500
DTEND;TZID=America/New_York:20290128T104500
DTSTAMP:20260422T051408
CREATED:20250106T184411Z
LAST-MODIFIED:20250106T184411Z
UID:10006673-1864287900-1864291500@lehighbaptistchurch.org
SUMMARY:Sunday School
DESCRIPTION:
URL:https://lehighbaptistchurch.org/event/sunday-school/2029-01-28/
LOCATION:Lehigh Baptist Church\, 934 Alburger Avenue\, Philadelphia\, PA\, 19115\, United States
END:VEVENT
BEGIN:VEVENT
DTSTART;TZID=America/New_York:20290128T110000
DTEND;TZID=America/New_York:20290128T121500
DTSTAMP:20260422T051408
CREATED:20250106T184636Z
LAST-MODIFIED:20250106T184636Z
UID:10006934-1864292400-1864296900@lehighbaptistchurch.org
SUMMARY:Sunday Morning Worship Service
DESCRIPTION:
URL:https://lehighbaptistchurch.org/event/sunday-morning-worship-service/2029-01-28/
LOCATION:Lehigh Baptist Church\, 934 Alburger Avenue\, Philadelphia\, PA\, 19115\, United States
END:VEVENT
BEGIN:VEVENT
DTSTART;TZID=America/New_York:20290131T191500
DTEND;TZID=America/New_York:20290131T201500
DTSTAMP:20260422T051408
CREATED:20250106T185455Z
LAST-MODIFIED:20250106T185455Z
UID:10007199-1864581300-1864584900@lehighbaptistchurch.org
SUMMARY:Midweek Prayer Meeting
DESCRIPTION:
URL:https://lehighbaptistchurch.org/event/midweek-prayer-meeting/2029-01-31/
LOCATION:Lehigh Baptist Church\, 934 Alburger Avenue\, Philadelphia\, PA\, 19115\, United States
END:VEVENT
BEGIN:VEVENT
DTSTART;TZID=America/New_York:20290202T190000
DTEND;TZID=America/New_York:20290202T210000
DTSTAMP:20260422T051408
CREATED:20250615T183824Z
LAST-MODIFIED:20250615T183824Z
UID:10007840-1864753200-1864760400@lehighbaptistchurch.org
SUMMARY:Family Fellowship
DESCRIPTION:
URL:https://lehighbaptistchurch.org/event/family-fellowship/2029-02-02/
LOCATION:Lehigh Baptist Church\, 934 Alburger Avenue\, Philadelphia\, PA\, 19115\, United States
END:VEVENT
BEGIN:VEVENT
DTSTART;TZID=America/New_York:20290204T094500
DTEND;TZID=America/New_York:20290204T104500
DTSTAMP:20260422T051408
CREATED:20250106T184411Z
LAST-MODIFIED:20250106T184411Z
UID:10006674-1864892700-1864896300@lehighbaptistchurch.org
SUMMARY:Sunday School
DESCRIPTION:
URL:https://lehighbaptistchurch.org/event/sunday-school/2029-02-04/
LOCATION:Lehigh Baptist Church\, 934 Alburger Avenue\, Philadelphia\, PA\, 19115\, United States
END:VEVENT
BEGIN:VEVENT
DTSTART;TZID=America/New_York:20290204T110000
DTEND;TZID=America/New_York:20290204T121500
DTSTAMP:20260422T051408
CREATED:20250106T184636Z
LAST-MODIFIED:20250106T184636Z
UID:10006935-1864897200-1864901700@lehighbaptistchurch.org
SUMMARY:Sunday Morning Worship Service
DESCRIPTION:
URL:https://lehighbaptistchurch.org/event/sunday-morning-worship-service/2029-02-04/
LOCATION:Lehigh Baptist Church\, 934 Alburger Avenue\, Philadelphia\, PA\, 19115\, United States
END:VEVENT
BEGIN:VEVENT
DTSTART;TZID=America/New_York:20290207T191500
DTEND;TZID=America/New_York:20290207T201500
DTSTAMP:20260422T051408
CREATED:20250106T185455Z
LAST-MODIFIED:20250106T185455Z
UID:10007200-1865186100-1865189700@lehighbaptistchurch.org
SUMMARY:Midweek Prayer Meeting
DESCRIPTION:
URL:https://lehighbaptistchurch.org/event/midweek-prayer-meeting/2029-02-07/
LOCATION:Lehigh Baptist Church\, 934 Alburger Avenue\, Philadelphia\, PA\, 19115\, United States
END:VEVENT
BEGIN:VEVENT
DTSTART;TZID=America/New_York:20290209T190000
DTEND;TZID=America/New_York:20290209T210000
DTSTAMP:20260422T051408
CREATED:20250615T183824Z
LAST-MODIFIED:20250615T183824Z
UID:10007841-1865358000-1865365200@lehighbaptistchurch.org
SUMMARY:Family Fellowship
DESCRIPTION:
URL:https://lehighbaptistchurch.org/event/family-fellowship/2029-02-09/
LOCATION:Lehigh Baptist Church\, 934 Alburger Avenue\, Philadelphia\, PA\, 19115\, United States
END:VEVENT
BEGIN:VEVENT
DTSTART;TZID=America/New_York:20290210T083000
DTEND;TZID=America/New_York:20290210T110000
DTSTAMP:20260422T051408
CREATED:20250120T145235Z
LAST-MODIFIED:20250519T231123Z
UID:10007296-1865406600-1865415600@lehighbaptistchurch.org
SUMMARY:Men’s Fellowship & Prayer Breakfast
DESCRIPTION:
URL:https://lehighbaptistchurch.org/event/mens-fellowship-prayer-breakfast-2-2/2029-02-10/
LOCATION:Lehigh Baptist Church\, 934 Alburger Avenue\, Philadelphia\, PA\, 19115\, United States
END:VEVENT
BEGIN:VEVENT
DTSTART;TZID=America/New_York:20290210T113000
DTEND;TZID=America/New_York:20290210T133000
DTSTAMP:20260422T051408
CREATED:20251221T202454Z
LAST-MODIFIED:20251221T202455Z
UID:10008106-1865417400-1865424600@lehighbaptistchurch.org
SUMMARY:Women's Fellowship
DESCRIPTION:
URL:https://lehighbaptistchurch.org/event/womens-fellowship-2-2-2/2029-02-10/
LOCATION:Lehigh Baptist Church\, 934 Alburger Avenue\, Philadelphia\, PA\, 19115\, United States
END:VEVENT
BEGIN:VEVENT
DTSTART;TZID=America/New_York:20290211T094500
DTEND;TZID=America/New_York:20290211T104500
DTSTAMP:20260422T051408
CREATED:20250106T184411Z
LAST-MODIFIED:20250106T184411Z
UID:10006675-1865497500-1865501100@lehighbaptistchurch.org
SUMMARY:Sunday School
DESCRIPTION:
URL:https://lehighbaptistchurch.org/event/sunday-school/2029-02-11/
LOCATION:Lehigh Baptist Church\, 934 Alburger Avenue\, Philadelphia\, PA\, 19115\, United States
END:VEVENT
BEGIN:VEVENT
DTSTART;TZID=America/New_York:20290211T110000
DTEND;TZID=America/New_York:20290211T121500
DTSTAMP:20260422T051408
CREATED:20250106T184636Z
LAST-MODIFIED:20250106T184636Z
UID:10006936-1865502000-1865506500@lehighbaptistchurch.org
SUMMARY:Sunday Morning Worship Service
DESCRIPTION:
URL:https://lehighbaptistchurch.org/event/sunday-morning-worship-service/2029-02-11/
LOCATION:Lehigh Baptist Church\, 934 Alburger Avenue\, Philadelphia\, PA\, 19115\, United States
END:VEVENT
BEGIN:VEVENT
DTSTART;TZID=America/New_York:20290214T191500
DTEND;TZID=America/New_York:20290214T201500
DTSTAMP:20260422T051408
CREATED:20250106T185455Z
LAST-MODIFIED:20250106T185455Z
UID:10007201-1865790900-1865794500@lehighbaptistchurch.org
SUMMARY:Midweek Prayer Meeting
DESCRIPTION:
URL:https://lehighbaptistchurch.org/event/midweek-prayer-meeting/2029-02-14/
LOCATION:Lehigh Baptist Church\, 934 Alburger Avenue\, Philadelphia\, PA\, 19115\, United States
END:VEVENT
BEGIN:VEVENT
DTSTART;TZID=America/New_York:20290216T190000
DTEND;TZID=America/New_York:20290216T210000
DTSTAMP:20260422T051408
CREATED:20250615T183824Z
LAST-MODIFIED:20250615T183824Z
UID:10007842-1865962800-1865970000@lehighbaptistchurch.org
SUMMARY:Family Fellowship
DESCRIPTION:
URL:https://lehighbaptistchurch.org/event/family-fellowship/2029-02-16/
LOCATION:Lehigh Baptist Church\, 934 Alburger Avenue\, Philadelphia\, PA\, 19115\, United States
END:VEVENT
BEGIN:VEVENT
DTSTART;TZID=America/New_York:20290218T094500
DTEND;TZID=America/New_York:20290218T104500
DTSTAMP:20260422T051408
CREATED:20250106T184411Z
LAST-MODIFIED:20250106T184411Z
UID:10006676-1866102300-1866105900@lehighbaptistchurch.org
SUMMARY:Sunday School
DESCRIPTION:
URL:https://lehighbaptistchurch.org/event/sunday-school/2029-02-18/
LOCATION:Lehigh Baptist Church\, 934 Alburger Avenue\, Philadelphia\, PA\, 19115\, United States
END:VEVENT
BEGIN:VEVENT
DTSTART;TZID=America/New_York:20290218T110000
DTEND;TZID=America/New_York:20290218T121500
DTSTAMP:20260422T051408
CREATED:20250106T184636Z
LAST-MODIFIED:20250106T184636Z
UID:10006937-1866106800-1866111300@lehighbaptistchurch.org
SUMMARY:Sunday Morning Worship Service
DESCRIPTION:
URL:https://lehighbaptistchurch.org/event/sunday-morning-worship-service/2029-02-18/
LOCATION:Lehigh Baptist Church\, 934 Alburger Avenue\, Philadelphia\, PA\, 19115\, United States
END:VEVENT
BEGIN:VEVENT
DTSTART;TZID=America/New_York:20290221T191500
DTEND;TZID=America/New_York:20290221T201500
DTSTAMP:20260422T051408
CREATED:20250106T185455Z
LAST-MODIFIED:20250106T185455Z
UID:10007202-1866395700-1866399300@lehighbaptistchurch.org
SUMMARY:Midweek Prayer Meeting
DESCRIPTION:
URL:https://lehighbaptistchurch.org/event/midweek-prayer-meeting/2029-02-21/
LOCATION:Lehigh Baptist Church\, 934 Alburger Avenue\, Philadelphia\, PA\, 19115\, United States
END:VEVENT
END:VCALENDAR