BEGIN:VCALENDAR
VERSION:2.0
PRODID:-//Lehigh Baptist Church - ECPv6.15.20//NONSGML v1.0//EN
CALSCALE:GREGORIAN
METHOD:PUBLISH
X-ORIGINAL-URL:https://lehighbaptistchurch.org
X-WR-CALDESC:Events for Lehigh Baptist Church
REFRESH-INTERVAL;VALUE=DURATION:PT1H
X-Robots-Tag:noindex
X-PUBLISHED-TTL:PT1H
BEGIN:VTIMEZONE
TZID:America/New_York
BEGIN:DAYLIGHT
TZOFFSETFROM:-0500
TZOFFSETTO:-0400
TZNAME:EDT
DTSTART:20270314T070000
END:DAYLIGHT
BEGIN:STANDARD
TZOFFSETFROM:-0400
TZOFFSETTO:-0500
TZNAME:EST
DTSTART:20271107T060000
END:STANDARD
BEGIN:DAYLIGHT
TZOFFSETFROM:-0500
TZOFFSETTO:-0400
TZNAME:EDT
DTSTART:20280312T070000
END:DAYLIGHT
BEGIN:STANDARD
TZOFFSETFROM:-0400
TZOFFSETTO:-0500
TZNAME:EST
DTSTART:20281105T060000
END:STANDARD
BEGIN:DAYLIGHT
TZOFFSETFROM:-0500
TZOFFSETTO:-0400
TZNAME:EDT
DTSTART:20290311T070000
END:DAYLIGHT
BEGIN:STANDARD
TZOFFSETFROM:-0400
TZOFFSETTO:-0500
TZNAME:EST
DTSTART:20291104T060000
END:STANDARD
END:VTIMEZONE
BEGIN:VEVENT
DTSTART;TZID=America/New_York:20281111T083000
DTEND;TZID=America/New_York:20281111T110000
DTSTAMP:20260420T134153
CREATED:20250120T145235Z
LAST-MODIFIED:20250519T231123Z
UID:10007293-1857544200-1857553200@lehighbaptistchurch.org
SUMMARY:Men’s Fellowship & Prayer Breakfast
DESCRIPTION:
URL:https://lehighbaptistchurch.org/event/mens-fellowship-prayer-breakfast-2-2/2028-11-11/
LOCATION:Lehigh Baptist Church\, 934 Alburger Avenue\, Philadelphia\, PA\, 19115\, United States
END:VEVENT
BEGIN:VEVENT
DTSTART;TZID=America/New_York:20281111T113000
DTEND;TZID=America/New_York:20281111T133000
DTSTAMP:20260420T134153
CREATED:20251221T202454Z
LAST-MODIFIED:20251221T202455Z
UID:10008103-1857555000-1857562200@lehighbaptistchurch.org
SUMMARY:Women's Fellowship
DESCRIPTION:
URL:https://lehighbaptistchurch.org/event/womens-fellowship-2-2-2/2028-11-11/
LOCATION:Lehigh Baptist Church\, 934 Alburger Avenue\, Philadelphia\, PA\, 19115\, United States
END:VEVENT
BEGIN:VEVENT
DTSTART;TZID=America/New_York:20281112T094500
DTEND;TZID=America/New_York:20281112T104500
DTSTAMP:20260420T134153
CREATED:20250106T184411Z
LAST-MODIFIED:20250106T184411Z
UID:10006662-1857635100-1857638700@lehighbaptistchurch.org
SUMMARY:Sunday School
DESCRIPTION:
URL:https://lehighbaptistchurch.org/event/sunday-school/2028-11-12/
LOCATION:Lehigh Baptist Church\, 934 Alburger Avenue\, Philadelphia\, PA\, 19115\, United States
END:VEVENT
BEGIN:VEVENT
DTSTART;TZID=America/New_York:20281112T110000
DTEND;TZID=America/New_York:20281112T121500
DTSTAMP:20260420T134153
CREATED:20250106T184636Z
LAST-MODIFIED:20250106T184636Z
UID:10006923-1857639600-1857644100@lehighbaptistchurch.org
SUMMARY:Sunday Morning Worship Service
DESCRIPTION:
URL:https://lehighbaptistchurch.org/event/sunday-morning-worship-service/2028-11-12/
LOCATION:Lehigh Baptist Church\, 934 Alburger Avenue\, Philadelphia\, PA\, 19115\, United States
END:VEVENT
BEGIN:VEVENT
DTSTART;TZID=America/New_York:20281115T191500
DTEND;TZID=America/New_York:20281115T201500
DTSTAMP:20260420T134153
CREATED:20250106T185455Z
LAST-MODIFIED:20250106T185455Z
UID:10007188-1857928500-1857932100@lehighbaptistchurch.org
SUMMARY:Midweek Prayer Meeting
DESCRIPTION:
URL:https://lehighbaptistchurch.org/event/midweek-prayer-meeting/2028-11-15/
LOCATION:Lehigh Baptist Church\, 934 Alburger Avenue\, Philadelphia\, PA\, 19115\, United States
END:VEVENT
BEGIN:VEVENT
DTSTART;TZID=America/New_York:20281117T190000
DTEND;TZID=America/New_York:20281117T210000
DTSTAMP:20260420T134153
CREATED:20250615T183824Z
LAST-MODIFIED:20250615T183824Z
UID:10007829-1858100400-1858107600@lehighbaptistchurch.org
SUMMARY:Family Fellowship
DESCRIPTION:
URL:https://lehighbaptistchurch.org/event/family-fellowship/2028-11-17/
LOCATION:Lehigh Baptist Church\, 934 Alburger Avenue\, Philadelphia\, PA\, 19115\, United States
END:VEVENT
BEGIN:VEVENT
DTSTART;TZID=America/New_York:20281119T094500
DTEND;TZID=America/New_York:20281119T104500
DTSTAMP:20260420T134153
CREATED:20250106T184411Z
LAST-MODIFIED:20250106T184411Z
UID:10006663-1858239900-1858243500@lehighbaptistchurch.org
SUMMARY:Sunday School
DESCRIPTION:
URL:https://lehighbaptistchurch.org/event/sunday-school/2028-11-19/
LOCATION:Lehigh Baptist Church\, 934 Alburger Avenue\, Philadelphia\, PA\, 19115\, United States
END:VEVENT
BEGIN:VEVENT
DTSTART;TZID=America/New_York:20281119T110000
DTEND;TZID=America/New_York:20281119T121500
DTSTAMP:20260420T134153
CREATED:20250106T184636Z
LAST-MODIFIED:20250106T184636Z
UID:10006924-1858244400-1858248900@lehighbaptistchurch.org
SUMMARY:Sunday Morning Worship Service
DESCRIPTION:
URL:https://lehighbaptistchurch.org/event/sunday-morning-worship-service/2028-11-19/
LOCATION:Lehigh Baptist Church\, 934 Alburger Avenue\, Philadelphia\, PA\, 19115\, United States
END:VEVENT
BEGIN:VEVENT
DTSTART;TZID=America/New_York:20281122T191500
DTEND;TZID=America/New_York:20281122T201500
DTSTAMP:20260420T134153
CREATED:20250106T185455Z
LAST-MODIFIED:20250106T185455Z
UID:10007189-1858533300-1858536900@lehighbaptistchurch.org
SUMMARY:Midweek Prayer Meeting
DESCRIPTION:
URL:https://lehighbaptistchurch.org/event/midweek-prayer-meeting/2028-11-22/
LOCATION:Lehigh Baptist Church\, 934 Alburger Avenue\, Philadelphia\, PA\, 19115\, United States
END:VEVENT
BEGIN:VEVENT
DTSTART;TZID=America/New_York:20281124T190000
DTEND;TZID=America/New_York:20281124T210000
DTSTAMP:20260420T134153
CREATED:20250615T183824Z
LAST-MODIFIED:20250615T183824Z
UID:10007830-1858705200-1858712400@lehighbaptistchurch.org
SUMMARY:Family Fellowship
DESCRIPTION:
URL:https://lehighbaptistchurch.org/event/family-fellowship/2028-11-24/
LOCATION:Lehigh Baptist Church\, 934 Alburger Avenue\, Philadelphia\, PA\, 19115\, United States
END:VEVENT
BEGIN:VEVENT
DTSTART;TZID=America/New_York:20281126T094500
DTEND;TZID=America/New_York:20281126T104500
DTSTAMP:20260420T134153
CREATED:20250106T184411Z
LAST-MODIFIED:20250106T184411Z
UID:10006664-1858844700-1858848300@lehighbaptistchurch.org
SUMMARY:Sunday School
DESCRIPTION:
URL:https://lehighbaptistchurch.org/event/sunday-school/2028-11-26/
LOCATION:Lehigh Baptist Church\, 934 Alburger Avenue\, Philadelphia\, PA\, 19115\, United States
END:VEVENT
BEGIN:VEVENT
DTSTART;TZID=America/New_York:20281126T110000
DTEND;TZID=America/New_York:20281126T121500
DTSTAMP:20260420T134153
CREATED:20250106T184636Z
LAST-MODIFIED:20250106T184636Z
UID:10006925-1858849200-1858853700@lehighbaptistchurch.org
SUMMARY:Sunday Morning Worship Service
DESCRIPTION:
URL:https://lehighbaptistchurch.org/event/sunday-morning-worship-service/2028-11-26/
LOCATION:Lehigh Baptist Church\, 934 Alburger Avenue\, Philadelphia\, PA\, 19115\, United States
END:VEVENT
BEGIN:VEVENT
DTSTART;TZID=America/New_York:20281129T191500
DTEND;TZID=America/New_York:20281129T201500
DTSTAMP:20260420T134153
CREATED:20250106T185455Z
LAST-MODIFIED:20250106T185455Z
UID:10007190-1859138100-1859141700@lehighbaptistchurch.org
SUMMARY:Midweek Prayer Meeting
DESCRIPTION:
URL:https://lehighbaptistchurch.org/event/midweek-prayer-meeting/2028-11-29/
LOCATION:Lehigh Baptist Church\, 934 Alburger Avenue\, Philadelphia\, PA\, 19115\, United States
END:VEVENT
BEGIN:VEVENT
DTSTART;TZID=America/New_York:20281201T190000
DTEND;TZID=America/New_York:20281201T210000
DTSTAMP:20260420T134153
CREATED:20250615T183824Z
LAST-MODIFIED:20250615T183824Z
UID:10007831-1859310000-1859317200@lehighbaptistchurch.org
SUMMARY:Family Fellowship
DESCRIPTION:
URL:https://lehighbaptistchurch.org/event/family-fellowship/2028-12-01/
LOCATION:Lehigh Baptist Church\, 934 Alburger Avenue\, Philadelphia\, PA\, 19115\, United States
END:VEVENT
BEGIN:VEVENT
DTSTART;TZID=America/New_York:20281203T094500
DTEND;TZID=America/New_York:20281203T104500
DTSTAMP:20260420T134153
CREATED:20250106T184411Z
LAST-MODIFIED:20250106T184411Z
UID:10006665-1859449500-1859453100@lehighbaptistchurch.org
SUMMARY:Sunday School
DESCRIPTION:
URL:https://lehighbaptistchurch.org/event/sunday-school/2028-12-03/
LOCATION:Lehigh Baptist Church\, 934 Alburger Avenue\, Philadelphia\, PA\, 19115\, United States
END:VEVENT
BEGIN:VEVENT
DTSTART;TZID=America/New_York:20281203T110000
DTEND;TZID=America/New_York:20281203T121500
DTSTAMP:20260420T134153
CREATED:20250106T184636Z
LAST-MODIFIED:20250106T184636Z
UID:10006926-1859454000-1859458500@lehighbaptistchurch.org
SUMMARY:Sunday Morning Worship Service
DESCRIPTION:
URL:https://lehighbaptistchurch.org/event/sunday-morning-worship-service/2028-12-03/
LOCATION:Lehigh Baptist Church\, 934 Alburger Avenue\, Philadelphia\, PA\, 19115\, United States
END:VEVENT
BEGIN:VEVENT
DTSTART;TZID=America/New_York:20281206T191500
DTEND;TZID=America/New_York:20281206T201500
DTSTAMP:20260420T134153
CREATED:20250106T185455Z
LAST-MODIFIED:20250106T185455Z
UID:10007191-1859742900-1859746500@lehighbaptistchurch.org
SUMMARY:Midweek Prayer Meeting
DESCRIPTION:
URL:https://lehighbaptistchurch.org/event/midweek-prayer-meeting/2028-12-06/
LOCATION:Lehigh Baptist Church\, 934 Alburger Avenue\, Philadelphia\, PA\, 19115\, United States
END:VEVENT
BEGIN:VEVENT
DTSTART;TZID=America/New_York:20281208T190000
DTEND;TZID=America/New_York:20281208T210000
DTSTAMP:20260420T134153
CREATED:20250615T183824Z
LAST-MODIFIED:20250615T183824Z
UID:10007832-1859914800-1859922000@lehighbaptistchurch.org
SUMMARY:Family Fellowship
DESCRIPTION:
URL:https://lehighbaptistchurch.org/event/family-fellowship/2028-12-08/
LOCATION:Lehigh Baptist Church\, 934 Alburger Avenue\, Philadelphia\, PA\, 19115\, United States
END:VEVENT
BEGIN:VEVENT
DTSTART;TZID=America/New_York:20281209T083000
DTEND;TZID=America/New_York:20281209T110000
DTSTAMP:20260420T134153
CREATED:20250120T145235Z
LAST-MODIFIED:20250519T231123Z
UID:10007294-1859963400-1859972400@lehighbaptistchurch.org
SUMMARY:Men’s Fellowship & Prayer Breakfast
DESCRIPTION:
URL:https://lehighbaptistchurch.org/event/mens-fellowship-prayer-breakfast-2-2/2028-12-09/
LOCATION:Lehigh Baptist Church\, 934 Alburger Avenue\, Philadelphia\, PA\, 19115\, United States
END:VEVENT
BEGIN:VEVENT
DTSTART;TZID=America/New_York:20281209T113000
DTEND;TZID=America/New_York:20281209T133000
DTSTAMP:20260420T134153
CREATED:20251221T202454Z
LAST-MODIFIED:20251221T202455Z
UID:10008104-1859974200-1859981400@lehighbaptistchurch.org
SUMMARY:Women's Fellowship
DESCRIPTION:
URL:https://lehighbaptistchurch.org/event/womens-fellowship-2-2-2/2028-12-09/
LOCATION:Lehigh Baptist Church\, 934 Alburger Avenue\, Philadelphia\, PA\, 19115\, United States
END:VEVENT
BEGIN:VEVENT
DTSTART;TZID=America/New_York:20281209T173000
DTEND;TZID=America/New_York:20281209T210000
DTSTAMP:20260420T134153
CREATED:20251129T204741Z
LAST-MODIFIED:20251129T204741Z
UID:10008061-1859995800-1860008400@lehighbaptistchurch.org
SUMMARY:Annual Christmas Dinner
DESCRIPTION:
URL:https://lehighbaptistchurch.org/event/annual-christmas-dinner/2028-12-09/
LOCATION:Lehigh Baptist Church\, 934 Alburger Avenue\, Philadelphia\, PA\, 19115\, United States
END:VEVENT
BEGIN:VEVENT
DTSTART;TZID=America/New_York:20281210T094500
DTEND;TZID=America/New_York:20281210T104500
DTSTAMP:20260420T134153
CREATED:20250106T184411Z
LAST-MODIFIED:20250106T184411Z
UID:10006666-1860054300-1860057900@lehighbaptistchurch.org
SUMMARY:Sunday School
DESCRIPTION:
URL:https://lehighbaptistchurch.org/event/sunday-school/2028-12-10/
LOCATION:Lehigh Baptist Church\, 934 Alburger Avenue\, Philadelphia\, PA\, 19115\, United States
END:VEVENT
BEGIN:VEVENT
DTSTART;TZID=America/New_York:20281210T110000
DTEND;TZID=America/New_York:20281210T121500
DTSTAMP:20260420T134153
CREATED:20250106T184636Z
LAST-MODIFIED:20250106T184636Z
UID:10006927-1860058800-1860063300@lehighbaptistchurch.org
SUMMARY:Sunday Morning Worship Service
DESCRIPTION:
URL:https://lehighbaptistchurch.org/event/sunday-morning-worship-service/2028-12-10/
LOCATION:Lehigh Baptist Church\, 934 Alburger Avenue\, Philadelphia\, PA\, 19115\, United States
END:VEVENT
BEGIN:VEVENT
DTSTART;TZID=America/New_York:20281213T191500
DTEND;TZID=America/New_York:20281213T201500
DTSTAMP:20260420T134153
CREATED:20250106T185455Z
LAST-MODIFIED:20250106T185455Z
UID:10007192-1860347700-1860351300@lehighbaptistchurch.org
SUMMARY:Midweek Prayer Meeting
DESCRIPTION:
URL:https://lehighbaptistchurch.org/event/midweek-prayer-meeting/2028-12-13/
LOCATION:Lehigh Baptist Church\, 934 Alburger Avenue\, Philadelphia\, PA\, 19115\, United States
END:VEVENT
BEGIN:VEVENT
DTSTART;TZID=America/New_York:20281215T190000
DTEND;TZID=America/New_York:20281215T210000
DTSTAMP:20260420T134153
CREATED:20250615T183824Z
LAST-MODIFIED:20250615T183824Z
UID:10007833-1860519600-1860526800@lehighbaptistchurch.org
SUMMARY:Family Fellowship
DESCRIPTION:
URL:https://lehighbaptistchurch.org/event/family-fellowship/2028-12-15/
LOCATION:Lehigh Baptist Church\, 934 Alburger Avenue\, Philadelphia\, PA\, 19115\, United States
END:VEVENT
BEGIN:VEVENT
DTSTART;TZID=America/New_York:20281217T094500
DTEND;TZID=America/New_York:20281217T104500
DTSTAMP:20260420T134153
CREATED:20250106T184411Z
LAST-MODIFIED:20250106T184411Z
UID:10006667-1860659100-1860662700@lehighbaptistchurch.org
SUMMARY:Sunday School
DESCRIPTION:
URL:https://lehighbaptistchurch.org/event/sunday-school/2028-12-17/
LOCATION:Lehigh Baptist Church\, 934 Alburger Avenue\, Philadelphia\, PA\, 19115\, United States
END:VEVENT
BEGIN:VEVENT
DTSTART;TZID=America/New_York:20281217T110000
DTEND;TZID=America/New_York:20281217T121500
DTSTAMP:20260420T134153
CREATED:20250106T184636Z
LAST-MODIFIED:20250106T184636Z
UID:10006928-1860663600-1860668100@lehighbaptistchurch.org
SUMMARY:Sunday Morning Worship Service
DESCRIPTION:
URL:https://lehighbaptistchurch.org/event/sunday-morning-worship-service/2028-12-17/
LOCATION:Lehigh Baptist Church\, 934 Alburger Avenue\, Philadelphia\, PA\, 19115\, United States
END:VEVENT
BEGIN:VEVENT
DTSTART;TZID=America/New_York:20281220T191500
DTEND;TZID=America/New_York:20281220T201500
DTSTAMP:20260420T134153
CREATED:20250106T185455Z
LAST-MODIFIED:20250106T185455Z
UID:10007193-1860952500-1860956100@lehighbaptistchurch.org
SUMMARY:Midweek Prayer Meeting
DESCRIPTION:
URL:https://lehighbaptistchurch.org/event/midweek-prayer-meeting/2028-12-20/
LOCATION:Lehigh Baptist Church\, 934 Alburger Avenue\, Philadelphia\, PA\, 19115\, United States
END:VEVENT
BEGIN:VEVENT
DTSTART;TZID=America/New_York:20281222T190000
DTEND;TZID=America/New_York:20281222T210000
DTSTAMP:20260420T134153
CREATED:20250615T183824Z
LAST-MODIFIED:20250615T183824Z
UID:10007834-1861124400-1861131600@lehighbaptistchurch.org
SUMMARY:Family Fellowship
DESCRIPTION:
URL:https://lehighbaptistchurch.org/event/family-fellowship/2028-12-22/
LOCATION:Lehigh Baptist Church\, 934 Alburger Avenue\, Philadelphia\, PA\, 19115\, United States
END:VEVENT
BEGIN:VEVENT
DTSTART;TZID=America/New_York:20281224T094500
DTEND;TZID=America/New_York:20281224T104500
DTSTAMP:20260420T134153
CREATED:20250106T184411Z
LAST-MODIFIED:20250106T184411Z
UID:10006668-1861263900-1861267500@lehighbaptistchurch.org
SUMMARY:Sunday School
DESCRIPTION:
URL:https://lehighbaptistchurch.org/event/sunday-school/2028-12-24/
LOCATION:Lehigh Baptist Church\, 934 Alburger Avenue\, Philadelphia\, PA\, 19115\, United States
END:VEVENT
END:VCALENDAR