BEGIN:VCALENDAR
VERSION:2.0
PRODID:-//Lehigh Baptist Church - ECPv6.15.20//NONSGML v1.0//EN
CALSCALE:GREGORIAN
METHOD:PUBLISH
X-WR-CALNAME:Lehigh Baptist Church
X-ORIGINAL-URL:https://lehighbaptistchurch.org
X-WR-CALDESC:Events for Lehigh Baptist Church
REFRESH-INTERVAL;VALUE=DURATION:PT1H
X-Robots-Tag:noindex
X-PUBLISHED-TTL:PT1H
BEGIN:VTIMEZONE
TZID:America/New_York
BEGIN:DAYLIGHT
TZOFFSETFROM:-0500
TZOFFSETTO:-0400
TZNAME:EDT
DTSTART:20270314T070000
END:DAYLIGHT
BEGIN:STANDARD
TZOFFSETFROM:-0400
TZOFFSETTO:-0500
TZNAME:EST
DTSTART:20271107T060000
END:STANDARD
BEGIN:DAYLIGHT
TZOFFSETFROM:-0500
TZOFFSETTO:-0400
TZNAME:EDT
DTSTART:20280312T070000
END:DAYLIGHT
BEGIN:STANDARD
TZOFFSETFROM:-0400
TZOFFSETTO:-0500
TZNAME:EST
DTSTART:20281105T060000
END:STANDARD
BEGIN:DAYLIGHT
TZOFFSETFROM:-0500
TZOFFSETTO:-0400
TZNAME:EDT
DTSTART:20290311T070000
END:DAYLIGHT
BEGIN:STANDARD
TZOFFSETFROM:-0400
TZOFFSETTO:-0500
TZNAME:EST
DTSTART:20291104T060000
END:STANDARD
END:VTIMEZONE
BEGIN:VEVENT
DTSTART;TZID=America/New_York:20280909T083000
DTEND;TZID=America/New_York:20280909T110000
DTSTAMP:20260420T120210
CREATED:20250120T145235Z
LAST-MODIFIED:20250519T231123Z
UID:10007291-1852101000-1852110000@lehighbaptistchurch.org
SUMMARY:Men’s Fellowship & Prayer Breakfast
DESCRIPTION:
URL:https://lehighbaptistchurch.org/event/mens-fellowship-prayer-breakfast-2-2/2028-09-09/
LOCATION:Lehigh Baptist Church\, 934 Alburger Avenue\, Philadelphia\, PA\, 19115\, United States
END:VEVENT
BEGIN:VEVENT
DTSTART;TZID=America/New_York:20280909T113000
DTEND;TZID=America/New_York:20280909T133000
DTSTAMP:20260420T120210
CREATED:20251221T202454Z
LAST-MODIFIED:20251221T202455Z
UID:10008101-1852111800-1852119000@lehighbaptistchurch.org
SUMMARY:Women's Fellowship
DESCRIPTION:
URL:https://lehighbaptistchurch.org/event/womens-fellowship-2-2-2/2028-09-09/
LOCATION:Lehigh Baptist Church\, 934 Alburger Avenue\, Philadelphia\, PA\, 19115\, United States
END:VEVENT
BEGIN:VEVENT
DTSTART;TZID=America/New_York:20280910T094500
DTEND;TZID=America/New_York:20280910T104500
DTSTAMP:20260420T120210
CREATED:20250106T184411Z
LAST-MODIFIED:20250106T184411Z
UID:10006653-1852191900-1852195500@lehighbaptistchurch.org
SUMMARY:Sunday School
DESCRIPTION:
URL:https://lehighbaptistchurch.org/event/sunday-school/2028-09-10/
LOCATION:Lehigh Baptist Church\, 934 Alburger Avenue\, Philadelphia\, PA\, 19115\, United States
END:VEVENT
BEGIN:VEVENT
DTSTART;TZID=America/New_York:20280910T110000
DTEND;TZID=America/New_York:20280910T121500
DTSTAMP:20260420T120210
CREATED:20250106T184636Z
LAST-MODIFIED:20250106T184636Z
UID:10006914-1852196400-1852200900@lehighbaptistchurch.org
SUMMARY:Sunday Morning Worship Service
DESCRIPTION:
URL:https://lehighbaptistchurch.org/event/sunday-morning-worship-service/2028-09-10/
LOCATION:Lehigh Baptist Church\, 934 Alburger Avenue\, Philadelphia\, PA\, 19115\, United States
END:VEVENT
BEGIN:VEVENT
DTSTART;TZID=America/New_York:20280913T191500
DTEND;TZID=America/New_York:20280913T201500
DTSTAMP:20260420T120210
CREATED:20250106T185455Z
LAST-MODIFIED:20250106T185455Z
UID:10007179-1852485300-1852488900@lehighbaptistchurch.org
SUMMARY:Midweek Prayer Meeting
DESCRIPTION:
URL:https://lehighbaptistchurch.org/event/midweek-prayer-meeting/2028-09-13/
LOCATION:Lehigh Baptist Church\, 934 Alburger Avenue\, Philadelphia\, PA\, 19115\, United States
END:VEVENT
BEGIN:VEVENT
DTSTART;TZID=America/New_York:20280915T190000
DTEND;TZID=America/New_York:20280915T210000
DTSTAMP:20260420T120210
CREATED:20250615T183824Z
LAST-MODIFIED:20250615T183824Z
UID:10007820-1852657200-1852664400@lehighbaptistchurch.org
SUMMARY:Family Fellowship
DESCRIPTION:
URL:https://lehighbaptistchurch.org/event/family-fellowship/2028-09-15/
LOCATION:Lehigh Baptist Church\, 934 Alburger Avenue\, Philadelphia\, PA\, 19115\, United States
END:VEVENT
BEGIN:VEVENT
DTSTART;TZID=America/New_York:20280917T094500
DTEND;TZID=America/New_York:20280917T104500
DTSTAMP:20260420T120210
CREATED:20250106T184411Z
LAST-MODIFIED:20250106T184411Z
UID:10006654-1852796700-1852800300@lehighbaptistchurch.org
SUMMARY:Sunday School
DESCRIPTION:
URL:https://lehighbaptistchurch.org/event/sunday-school/2028-09-17/
LOCATION:Lehigh Baptist Church\, 934 Alburger Avenue\, Philadelphia\, PA\, 19115\, United States
END:VEVENT
BEGIN:VEVENT
DTSTART;TZID=America/New_York:20280917T110000
DTEND;TZID=America/New_York:20280917T121500
DTSTAMP:20260420T120210
CREATED:20250106T184636Z
LAST-MODIFIED:20250106T184636Z
UID:10006915-1852801200-1852805700@lehighbaptistchurch.org
SUMMARY:Sunday Morning Worship Service
DESCRIPTION:
URL:https://lehighbaptistchurch.org/event/sunday-morning-worship-service/2028-09-17/
LOCATION:Lehigh Baptist Church\, 934 Alburger Avenue\, Philadelphia\, PA\, 19115\, United States
END:VEVENT
BEGIN:VEVENT
DTSTART;TZID=America/New_York:20280920T191500
DTEND;TZID=America/New_York:20280920T201500
DTSTAMP:20260420T120210
CREATED:20250106T185455Z
LAST-MODIFIED:20250106T185455Z
UID:10007180-1853090100-1853093700@lehighbaptistchurch.org
SUMMARY:Midweek Prayer Meeting
DESCRIPTION:
URL:https://lehighbaptistchurch.org/event/midweek-prayer-meeting/2028-09-20/
LOCATION:Lehigh Baptist Church\, 934 Alburger Avenue\, Philadelphia\, PA\, 19115\, United States
END:VEVENT
BEGIN:VEVENT
DTSTART;TZID=America/New_York:20280922T190000
DTEND;TZID=America/New_York:20280922T210000
DTSTAMP:20260420T120210
CREATED:20250615T183824Z
LAST-MODIFIED:20250615T183824Z
UID:10007821-1853262000-1853269200@lehighbaptistchurch.org
SUMMARY:Family Fellowship
DESCRIPTION:
URL:https://lehighbaptistchurch.org/event/family-fellowship/2028-09-22/
LOCATION:Lehigh Baptist Church\, 934 Alburger Avenue\, Philadelphia\, PA\, 19115\, United States
END:VEVENT
BEGIN:VEVENT
DTSTART;TZID=America/New_York:20280924T094500
DTEND;TZID=America/New_York:20280924T104500
DTSTAMP:20260420T120210
CREATED:20250106T184411Z
LAST-MODIFIED:20250106T184411Z
UID:10006655-1853401500-1853405100@lehighbaptistchurch.org
SUMMARY:Sunday School
DESCRIPTION:
URL:https://lehighbaptistchurch.org/event/sunday-school/2028-09-24/
LOCATION:Lehigh Baptist Church\, 934 Alburger Avenue\, Philadelphia\, PA\, 19115\, United States
END:VEVENT
BEGIN:VEVENT
DTSTART;TZID=America/New_York:20280924T110000
DTEND;TZID=America/New_York:20280924T121500
DTSTAMP:20260420T120210
CREATED:20250106T184636Z
LAST-MODIFIED:20250106T184636Z
UID:10006916-1853406000-1853410500@lehighbaptistchurch.org
SUMMARY:Sunday Morning Worship Service
DESCRIPTION:
URL:https://lehighbaptistchurch.org/event/sunday-morning-worship-service/2028-09-24/
LOCATION:Lehigh Baptist Church\, 934 Alburger Avenue\, Philadelphia\, PA\, 19115\, United States
END:VEVENT
BEGIN:VEVENT
DTSTART;TZID=America/New_York:20280927T191500
DTEND;TZID=America/New_York:20280927T201500
DTSTAMP:20260420T120210
CREATED:20250106T185455Z
LAST-MODIFIED:20250106T185455Z
UID:10007181-1853694900-1853698500@lehighbaptistchurch.org
SUMMARY:Midweek Prayer Meeting
DESCRIPTION:
URL:https://lehighbaptistchurch.org/event/midweek-prayer-meeting/2028-09-27/
LOCATION:Lehigh Baptist Church\, 934 Alburger Avenue\, Philadelphia\, PA\, 19115\, United States
END:VEVENT
BEGIN:VEVENT
DTSTART;TZID=America/New_York:20280929T190000
DTEND;TZID=America/New_York:20280929T210000
DTSTAMP:20260420T120210
CREATED:20250615T183824Z
LAST-MODIFIED:20250615T183824Z
UID:10007822-1853866800-1853874000@lehighbaptistchurch.org
SUMMARY:Family Fellowship
DESCRIPTION:
URL:https://lehighbaptistchurch.org/event/family-fellowship/2028-09-29/
LOCATION:Lehigh Baptist Church\, 934 Alburger Avenue\, Philadelphia\, PA\, 19115\, United States
END:VEVENT
BEGIN:VEVENT
DTSTART;TZID=America/New_York:20281001T094500
DTEND;TZID=America/New_York:20281001T104500
DTSTAMP:20260420T120210
CREATED:20250106T184411Z
LAST-MODIFIED:20250106T184411Z
UID:10006656-1854006300-1854009900@lehighbaptistchurch.org
SUMMARY:Sunday School
DESCRIPTION:
URL:https://lehighbaptistchurch.org/event/sunday-school/2028-10-01/
LOCATION:Lehigh Baptist Church\, 934 Alburger Avenue\, Philadelphia\, PA\, 19115\, United States
END:VEVENT
BEGIN:VEVENT
DTSTART;TZID=America/New_York:20281001T110000
DTEND;TZID=America/New_York:20281001T121500
DTSTAMP:20260420T120210
CREATED:20250106T184636Z
LAST-MODIFIED:20250106T184636Z
UID:10006917-1854010800-1854015300@lehighbaptistchurch.org
SUMMARY:Sunday Morning Worship Service
DESCRIPTION:
URL:https://lehighbaptistchurch.org/event/sunday-morning-worship-service/2028-10-01/
LOCATION:Lehigh Baptist Church\, 934 Alburger Avenue\, Philadelphia\, PA\, 19115\, United States
END:VEVENT
BEGIN:VEVENT
DTSTART;TZID=America/New_York:20281004T191500
DTEND;TZID=America/New_York:20281004T201500
DTSTAMP:20260420T120210
CREATED:20250106T185455Z
LAST-MODIFIED:20250106T185455Z
UID:10007182-1854299700-1854303300@lehighbaptistchurch.org
SUMMARY:Midweek Prayer Meeting
DESCRIPTION:
URL:https://lehighbaptistchurch.org/event/midweek-prayer-meeting/2028-10-04/
LOCATION:Lehigh Baptist Church\, 934 Alburger Avenue\, Philadelphia\, PA\, 19115\, United States
END:VEVENT
BEGIN:VEVENT
DTSTART;TZID=America/New_York:20281006T190000
DTEND;TZID=America/New_York:20281006T210000
DTSTAMP:20260420T120210
CREATED:20250615T183824Z
LAST-MODIFIED:20250615T183824Z
UID:10007823-1854471600-1854478800@lehighbaptistchurch.org
SUMMARY:Family Fellowship
DESCRIPTION:
URL:https://lehighbaptistchurch.org/event/family-fellowship/2028-10-06/
LOCATION:Lehigh Baptist Church\, 934 Alburger Avenue\, Philadelphia\, PA\, 19115\, United States
END:VEVENT
BEGIN:VEVENT
DTSTART;TZID=America/New_York:20281008T094500
DTEND;TZID=America/New_York:20281008T104500
DTSTAMP:20260420T120210
CREATED:20250106T184411Z
LAST-MODIFIED:20250106T184411Z
UID:10006657-1854611100-1854614700@lehighbaptistchurch.org
SUMMARY:Sunday School
DESCRIPTION:
URL:https://lehighbaptistchurch.org/event/sunday-school/2028-10-08/
LOCATION:Lehigh Baptist Church\, 934 Alburger Avenue\, Philadelphia\, PA\, 19115\, United States
END:VEVENT
BEGIN:VEVENT
DTSTART;TZID=America/New_York:20281008T110000
DTEND;TZID=America/New_York:20281008T121500
DTSTAMP:20260420T120210
CREATED:20250106T184636Z
LAST-MODIFIED:20250106T184636Z
UID:10006918-1854615600-1854620100@lehighbaptistchurch.org
SUMMARY:Sunday Morning Worship Service
DESCRIPTION:
URL:https://lehighbaptistchurch.org/event/sunday-morning-worship-service/2028-10-08/
LOCATION:Lehigh Baptist Church\, 934 Alburger Avenue\, Philadelphia\, PA\, 19115\, United States
END:VEVENT
BEGIN:VEVENT
DTSTART;TZID=America/New_York:20281011T191500
DTEND;TZID=America/New_York:20281011T201500
DTSTAMP:20260420T120210
CREATED:20250106T185455Z
LAST-MODIFIED:20250106T185455Z
UID:10007183-1854904500-1854908100@lehighbaptistchurch.org
SUMMARY:Midweek Prayer Meeting
DESCRIPTION:
URL:https://lehighbaptistchurch.org/event/midweek-prayer-meeting/2028-10-11/
LOCATION:Lehigh Baptist Church\, 934 Alburger Avenue\, Philadelphia\, PA\, 19115\, United States
END:VEVENT
BEGIN:VEVENT
DTSTART;TZID=America/New_York:20281013T190000
DTEND;TZID=America/New_York:20281013T210000
DTSTAMP:20260420T120210
CREATED:20250615T183824Z
LAST-MODIFIED:20250615T183824Z
UID:10007824-1855076400-1855083600@lehighbaptistchurch.org
SUMMARY:Family Fellowship
DESCRIPTION:
URL:https://lehighbaptistchurch.org/event/family-fellowship/2028-10-13/
LOCATION:Lehigh Baptist Church\, 934 Alburger Avenue\, Philadelphia\, PA\, 19115\, United States
END:VEVENT
BEGIN:VEVENT
DTSTART;TZID=America/New_York:20281014T083000
DTEND;TZID=America/New_York:20281014T110000
DTSTAMP:20260420T120210
CREATED:20250120T145235Z
LAST-MODIFIED:20250519T231123Z
UID:10007292-1855125000-1855134000@lehighbaptistchurch.org
SUMMARY:Men’s Fellowship & Prayer Breakfast
DESCRIPTION:
URL:https://lehighbaptistchurch.org/event/mens-fellowship-prayer-breakfast-2-2/2028-10-14/
LOCATION:Lehigh Baptist Church\, 934 Alburger Avenue\, Philadelphia\, PA\, 19115\, United States
END:VEVENT
BEGIN:VEVENT
DTSTART;TZID=America/New_York:20281014T113000
DTEND;TZID=America/New_York:20281014T133000
DTSTAMP:20260420T120210
CREATED:20251221T202454Z
LAST-MODIFIED:20251221T202455Z
UID:10008102-1855135800-1855143000@lehighbaptistchurch.org
SUMMARY:Women's Fellowship
DESCRIPTION:
URL:https://lehighbaptistchurch.org/event/womens-fellowship-2-2-2/2028-10-14/
LOCATION:Lehigh Baptist Church\, 934 Alburger Avenue\, Philadelphia\, PA\, 19115\, United States
END:VEVENT
BEGIN:VEVENT
DTSTART;TZID=America/New_York:20281015T094500
DTEND;TZID=America/New_York:20281015T104500
DTSTAMP:20260420T120210
CREATED:20250106T184411Z
LAST-MODIFIED:20250106T184411Z
UID:10006658-1855215900-1855219500@lehighbaptistchurch.org
SUMMARY:Sunday School
DESCRIPTION:
URL:https://lehighbaptistchurch.org/event/sunday-school/2028-10-15/
LOCATION:Lehigh Baptist Church\, 934 Alburger Avenue\, Philadelphia\, PA\, 19115\, United States
END:VEVENT
BEGIN:VEVENT
DTSTART;TZID=America/New_York:20281015T110000
DTEND;TZID=America/New_York:20281015T121500
DTSTAMP:20260420T120210
CREATED:20250106T184636Z
LAST-MODIFIED:20250106T184636Z
UID:10006919-1855220400-1855224900@lehighbaptistchurch.org
SUMMARY:Sunday Morning Worship Service
DESCRIPTION:
URL:https://lehighbaptistchurch.org/event/sunday-morning-worship-service/2028-10-15/
LOCATION:Lehigh Baptist Church\, 934 Alburger Avenue\, Philadelphia\, PA\, 19115\, United States
END:VEVENT
BEGIN:VEVENT
DTSTART;TZID=America/New_York:20281018T191500
DTEND;TZID=America/New_York:20281018T201500
DTSTAMP:20260420T120210
CREATED:20250106T185455Z
LAST-MODIFIED:20250106T185455Z
UID:10007184-1855509300-1855512900@lehighbaptistchurch.org
SUMMARY:Midweek Prayer Meeting
DESCRIPTION:
URL:https://lehighbaptistchurch.org/event/midweek-prayer-meeting/2028-10-18/
LOCATION:Lehigh Baptist Church\, 934 Alburger Avenue\, Philadelphia\, PA\, 19115\, United States
END:VEVENT
BEGIN:VEVENT
DTSTART;TZID=America/New_York:20281020T190000
DTEND;TZID=America/New_York:20281020T210000
DTSTAMP:20260420T120210
CREATED:20250615T183824Z
LAST-MODIFIED:20250615T183824Z
UID:10007825-1855681200-1855688400@lehighbaptistchurch.org
SUMMARY:Family Fellowship
DESCRIPTION:
URL:https://lehighbaptistchurch.org/event/family-fellowship/2028-10-20/
LOCATION:Lehigh Baptist Church\, 934 Alburger Avenue\, Philadelphia\, PA\, 19115\, United States
END:VEVENT
BEGIN:VEVENT
DTSTART;TZID=America/New_York:20281022T094500
DTEND;TZID=America/New_York:20281022T104500
DTSTAMP:20260420T120210
CREATED:20250106T184411Z
LAST-MODIFIED:20250106T184411Z
UID:10006659-1855820700-1855824300@lehighbaptistchurch.org
SUMMARY:Sunday School
DESCRIPTION:
URL:https://lehighbaptistchurch.org/event/sunday-school/2028-10-22/
LOCATION:Lehigh Baptist Church\, 934 Alburger Avenue\, Philadelphia\, PA\, 19115\, United States
END:VEVENT
BEGIN:VEVENT
DTSTART;TZID=America/New_York:20281022T110000
DTEND;TZID=America/New_York:20281022T121500
DTSTAMP:20260420T120210
CREATED:20250106T184636Z
LAST-MODIFIED:20250106T184636Z
UID:10006920-1855825200-1855829700@lehighbaptistchurch.org
SUMMARY:Sunday Morning Worship Service
DESCRIPTION:
URL:https://lehighbaptistchurch.org/event/sunday-morning-worship-service/2028-10-22/
LOCATION:Lehigh Baptist Church\, 934 Alburger Avenue\, Philadelphia\, PA\, 19115\, United States
END:VEVENT
END:VCALENDAR