BEGIN:VCALENDAR
VERSION:2.0
PRODID:-//Lehigh Baptist Church - ECPv6.15.20//NONSGML v1.0//EN
CALSCALE:GREGORIAN
METHOD:PUBLISH
X-ORIGINAL-URL:https://lehighbaptistchurch.org
X-WR-CALDESC:Events for Lehigh Baptist Church
REFRESH-INTERVAL;VALUE=DURATION:PT1H
X-Robots-Tag:noindex
X-PUBLISHED-TTL:PT1H
BEGIN:VTIMEZONE
TZID:America/New_York
BEGIN:DAYLIGHT
TZOFFSETFROM:-0500
TZOFFSETTO:-0400
TZNAME:EDT
DTSTART:20270314T070000
END:DAYLIGHT
BEGIN:STANDARD
TZOFFSETFROM:-0400
TZOFFSETTO:-0500
TZNAME:EST
DTSTART:20271107T060000
END:STANDARD
BEGIN:DAYLIGHT
TZOFFSETFROM:-0500
TZOFFSETTO:-0400
TZNAME:EDT
DTSTART:20280312T070000
END:DAYLIGHT
BEGIN:STANDARD
TZOFFSETFROM:-0400
TZOFFSETTO:-0500
TZNAME:EST
DTSTART:20281105T060000
END:STANDARD
BEGIN:DAYLIGHT
TZOFFSETFROM:-0500
TZOFFSETTO:-0400
TZNAME:EDT
DTSTART:20290311T070000
END:DAYLIGHT
BEGIN:STANDARD
TZOFFSETFROM:-0400
TZOFFSETTO:-0500
TZNAME:EST
DTSTART:20291104T060000
END:STANDARD
END:VTIMEZONE
BEGIN:VEVENT
DTSTART;TZID=America/New_York:20280708T083000
DTEND;TZID=America/New_York:20280708T110000
DTSTAMP:20260420T102551
CREATED:20250120T145235Z
LAST-MODIFIED:20250519T231123Z
UID:10007289-1846657800-1846666800@lehighbaptistchurch.org
SUMMARY:Men’s Fellowship & Prayer Breakfast
DESCRIPTION:
URL:https://lehighbaptistchurch.org/event/mens-fellowship-prayer-breakfast-2-2/2028-07-08/
LOCATION:Lehigh Baptist Church\, 934 Alburger Avenue\, Philadelphia\, PA\, 19115\, United States
END:VEVENT
BEGIN:VEVENT
DTSTART;TZID=America/New_York:20280708T113000
DTEND;TZID=America/New_York:20280708T133000
DTSTAMP:20260420T102551
CREATED:20251221T202454Z
LAST-MODIFIED:20251221T202455Z
UID:10008099-1846668600-1846675800@lehighbaptistchurch.org
SUMMARY:Women's Fellowship
DESCRIPTION:
URL:https://lehighbaptistchurch.org/event/womens-fellowship-2-2-2/2028-07-08/
LOCATION:Lehigh Baptist Church\, 934 Alburger Avenue\, Philadelphia\, PA\, 19115\, United States
END:VEVENT
BEGIN:VEVENT
DTSTART;TZID=America/New_York:20280709T094500
DTEND;TZID=America/New_York:20280709T104500
DTSTAMP:20260420T102551
CREATED:20250106T184411Z
LAST-MODIFIED:20250106T184411Z
UID:10006644-1846748700-1846752300@lehighbaptistchurch.org
SUMMARY:Sunday School
DESCRIPTION:
URL:https://lehighbaptistchurch.org/event/sunday-school/2028-07-09/
LOCATION:Lehigh Baptist Church\, 934 Alburger Avenue\, Philadelphia\, PA\, 19115\, United States
END:VEVENT
BEGIN:VEVENT
DTSTART;TZID=America/New_York:20280709T110000
DTEND;TZID=America/New_York:20280709T121500
DTSTAMP:20260420T102551
CREATED:20250106T184636Z
LAST-MODIFIED:20250106T184636Z
UID:10006905-1846753200-1846757700@lehighbaptistchurch.org
SUMMARY:Sunday Morning Worship Service
DESCRIPTION:
URL:https://lehighbaptistchurch.org/event/sunday-morning-worship-service/2028-07-09/
LOCATION:Lehigh Baptist Church\, 934 Alburger Avenue\, Philadelphia\, PA\, 19115\, United States
END:VEVENT
BEGIN:VEVENT
DTSTART;TZID=America/New_York:20280712T191500
DTEND;TZID=America/New_York:20280712T201500
DTSTAMP:20260420T102551
CREATED:20250106T185455Z
LAST-MODIFIED:20250106T185455Z
UID:10007170-1847042100-1847045700@lehighbaptistchurch.org
SUMMARY:Midweek Prayer Meeting
DESCRIPTION:
URL:https://lehighbaptistchurch.org/event/midweek-prayer-meeting/2028-07-12/
LOCATION:Lehigh Baptist Church\, 934 Alburger Avenue\, Philadelphia\, PA\, 19115\, United States
END:VEVENT
BEGIN:VEVENT
DTSTART;TZID=America/New_York:20280714T190000
DTEND;TZID=America/New_York:20280714T210000
DTSTAMP:20260420T102551
CREATED:20250615T183824Z
LAST-MODIFIED:20250615T183824Z
UID:10007811-1847214000-1847221200@lehighbaptistchurch.org
SUMMARY:Family Fellowship
DESCRIPTION:
URL:https://lehighbaptistchurch.org/event/family-fellowship/2028-07-14/
LOCATION:Lehigh Baptist Church\, 934 Alburger Avenue\, Philadelphia\, PA\, 19115\, United States
END:VEVENT
BEGIN:VEVENT
DTSTART;TZID=America/New_York:20280716T094500
DTEND;TZID=America/New_York:20280716T104500
DTSTAMP:20260420T102551
CREATED:20250106T184411Z
LAST-MODIFIED:20250106T184411Z
UID:10006645-1847353500-1847357100@lehighbaptistchurch.org
SUMMARY:Sunday School
DESCRIPTION:
URL:https://lehighbaptistchurch.org/event/sunday-school/2028-07-16/
LOCATION:Lehigh Baptist Church\, 934 Alburger Avenue\, Philadelphia\, PA\, 19115\, United States
END:VEVENT
BEGIN:VEVENT
DTSTART;TZID=America/New_York:20280716T110000
DTEND;TZID=America/New_York:20280716T121500
DTSTAMP:20260420T102551
CREATED:20250106T184636Z
LAST-MODIFIED:20250106T184636Z
UID:10006906-1847358000-1847362500@lehighbaptistchurch.org
SUMMARY:Sunday Morning Worship Service
DESCRIPTION:
URL:https://lehighbaptistchurch.org/event/sunday-morning-worship-service/2028-07-16/
LOCATION:Lehigh Baptist Church\, 934 Alburger Avenue\, Philadelphia\, PA\, 19115\, United States
END:VEVENT
BEGIN:VEVENT
DTSTART;TZID=America/New_York:20280719T191500
DTEND;TZID=America/New_York:20280719T201500
DTSTAMP:20260420T102551
CREATED:20250106T185455Z
LAST-MODIFIED:20250106T185455Z
UID:10007171-1847646900-1847650500@lehighbaptistchurch.org
SUMMARY:Midweek Prayer Meeting
DESCRIPTION:
URL:https://lehighbaptistchurch.org/event/midweek-prayer-meeting/2028-07-19/
LOCATION:Lehigh Baptist Church\, 934 Alburger Avenue\, Philadelphia\, PA\, 19115\, United States
END:VEVENT
BEGIN:VEVENT
DTSTART;TZID=America/New_York:20280721T190000
DTEND;TZID=America/New_York:20280721T210000
DTSTAMP:20260420T102551
CREATED:20250615T183824Z
LAST-MODIFIED:20250615T183824Z
UID:10007812-1847818800-1847826000@lehighbaptistchurch.org
SUMMARY:Family Fellowship
DESCRIPTION:
URL:https://lehighbaptistchurch.org/event/family-fellowship/2028-07-21/
LOCATION:Lehigh Baptist Church\, 934 Alburger Avenue\, Philadelphia\, PA\, 19115\, United States
END:VEVENT
BEGIN:VEVENT
DTSTART;TZID=America/New_York:20280723T094500
DTEND;TZID=America/New_York:20280723T104500
DTSTAMP:20260420T102551
CREATED:20250106T184411Z
LAST-MODIFIED:20250106T184411Z
UID:10006646-1847958300-1847961900@lehighbaptistchurch.org
SUMMARY:Sunday School
DESCRIPTION:
URL:https://lehighbaptistchurch.org/event/sunday-school/2028-07-23/
LOCATION:Lehigh Baptist Church\, 934 Alburger Avenue\, Philadelphia\, PA\, 19115\, United States
END:VEVENT
BEGIN:VEVENT
DTSTART;TZID=America/New_York:20280723T110000
DTEND;TZID=America/New_York:20280723T121500
DTSTAMP:20260420T102551
CREATED:20250106T184636Z
LAST-MODIFIED:20250106T184636Z
UID:10006907-1847962800-1847967300@lehighbaptistchurch.org
SUMMARY:Sunday Morning Worship Service
DESCRIPTION:
URL:https://lehighbaptistchurch.org/event/sunday-morning-worship-service/2028-07-23/
LOCATION:Lehigh Baptist Church\, 934 Alburger Avenue\, Philadelphia\, PA\, 19115\, United States
END:VEVENT
BEGIN:VEVENT
DTSTART;TZID=America/New_York:20280726T191500
DTEND;TZID=America/New_York:20280726T201500
DTSTAMP:20260420T102551
CREATED:20250106T185455Z
LAST-MODIFIED:20250106T185455Z
UID:10007172-1848251700-1848255300@lehighbaptistchurch.org
SUMMARY:Midweek Prayer Meeting
DESCRIPTION:
URL:https://lehighbaptistchurch.org/event/midweek-prayer-meeting/2028-07-26/
LOCATION:Lehigh Baptist Church\, 934 Alburger Avenue\, Philadelphia\, PA\, 19115\, United States
END:VEVENT
BEGIN:VEVENT
DTSTART;TZID=America/New_York:20280728T190000
DTEND;TZID=America/New_York:20280728T210000
DTSTAMP:20260420T102551
CREATED:20250615T183824Z
LAST-MODIFIED:20250615T183824Z
UID:10007813-1848423600-1848430800@lehighbaptistchurch.org
SUMMARY:Family Fellowship
DESCRIPTION:
URL:https://lehighbaptistchurch.org/event/family-fellowship/2028-07-28/
LOCATION:Lehigh Baptist Church\, 934 Alburger Avenue\, Philadelphia\, PA\, 19115\, United States
END:VEVENT
BEGIN:VEVENT
DTSTART;TZID=America/New_York:20280730T094500
DTEND;TZID=America/New_York:20280730T104500
DTSTAMP:20260420T102551
CREATED:20250106T184411Z
LAST-MODIFIED:20250106T184411Z
UID:10006647-1848563100-1848566700@lehighbaptistchurch.org
SUMMARY:Sunday School
DESCRIPTION:
URL:https://lehighbaptistchurch.org/event/sunday-school/2028-07-30/
LOCATION:Lehigh Baptist Church\, 934 Alburger Avenue\, Philadelphia\, PA\, 19115\, United States
END:VEVENT
BEGIN:VEVENT
DTSTART;TZID=America/New_York:20280730T110000
DTEND;TZID=America/New_York:20280730T121500
DTSTAMP:20260420T102551
CREATED:20250106T184636Z
LAST-MODIFIED:20250106T184636Z
UID:10006908-1848567600-1848572100@lehighbaptistchurch.org
SUMMARY:Sunday Morning Worship Service
DESCRIPTION:
URL:https://lehighbaptistchurch.org/event/sunday-morning-worship-service/2028-07-30/
LOCATION:Lehigh Baptist Church\, 934 Alburger Avenue\, Philadelphia\, PA\, 19115\, United States
END:VEVENT
BEGIN:VEVENT
DTSTART;TZID=America/New_York:20280802T191500
DTEND;TZID=America/New_York:20280802T201500
DTSTAMP:20260420T102551
CREATED:20250106T185455Z
LAST-MODIFIED:20250106T185455Z
UID:10007173-1848856500-1848860100@lehighbaptistchurch.org
SUMMARY:Midweek Prayer Meeting
DESCRIPTION:
URL:https://lehighbaptistchurch.org/event/midweek-prayer-meeting/2028-08-02/
LOCATION:Lehigh Baptist Church\, 934 Alburger Avenue\, Philadelphia\, PA\, 19115\, United States
END:VEVENT
BEGIN:VEVENT
DTSTART;TZID=America/New_York:20280804T190000
DTEND;TZID=America/New_York:20280804T210000
DTSTAMP:20260420T102551
CREATED:20250615T183824Z
LAST-MODIFIED:20250615T183824Z
UID:10007814-1849028400-1849035600@lehighbaptistchurch.org
SUMMARY:Family Fellowship
DESCRIPTION:
URL:https://lehighbaptistchurch.org/event/family-fellowship/2028-08-04/
LOCATION:Lehigh Baptist Church\, 934 Alburger Avenue\, Philadelphia\, PA\, 19115\, United States
END:VEVENT
BEGIN:VEVENT
DTSTART;TZID=America/New_York:20280806T094500
DTEND;TZID=America/New_York:20280806T104500
DTSTAMP:20260420T102551
CREATED:20250106T184411Z
LAST-MODIFIED:20250106T184411Z
UID:10006648-1849167900-1849171500@lehighbaptistchurch.org
SUMMARY:Sunday School
DESCRIPTION:
URL:https://lehighbaptistchurch.org/event/sunday-school/2028-08-06/
LOCATION:Lehigh Baptist Church\, 934 Alburger Avenue\, Philadelphia\, PA\, 19115\, United States
END:VEVENT
BEGIN:VEVENT
DTSTART;TZID=America/New_York:20280806T110000
DTEND;TZID=America/New_York:20280806T121500
DTSTAMP:20260420T102551
CREATED:20250106T184636Z
LAST-MODIFIED:20250106T184636Z
UID:10006909-1849172400-1849176900@lehighbaptistchurch.org
SUMMARY:Sunday Morning Worship Service
DESCRIPTION:
URL:https://lehighbaptistchurch.org/event/sunday-morning-worship-service/2028-08-06/
LOCATION:Lehigh Baptist Church\, 934 Alburger Avenue\, Philadelphia\, PA\, 19115\, United States
END:VEVENT
BEGIN:VEVENT
DTSTART;TZID=America/New_York:20280809T191500
DTEND;TZID=America/New_York:20280809T201500
DTSTAMP:20260420T102551
CREATED:20250106T185455Z
LAST-MODIFIED:20250106T185455Z
UID:10007174-1849461300-1849464900@lehighbaptistchurch.org
SUMMARY:Midweek Prayer Meeting
DESCRIPTION:
URL:https://lehighbaptistchurch.org/event/midweek-prayer-meeting/2028-08-09/
LOCATION:Lehigh Baptist Church\, 934 Alburger Avenue\, Philadelphia\, PA\, 19115\, United States
END:VEVENT
BEGIN:VEVENT
DTSTART;TZID=America/New_York:20280811T190000
DTEND;TZID=America/New_York:20280811T210000
DTSTAMP:20260420T102551
CREATED:20250615T183824Z
LAST-MODIFIED:20250615T183824Z
UID:10007815-1849633200-1849640400@lehighbaptistchurch.org
SUMMARY:Family Fellowship
DESCRIPTION:
URL:https://lehighbaptistchurch.org/event/family-fellowship/2028-08-11/
LOCATION:Lehigh Baptist Church\, 934 Alburger Avenue\, Philadelphia\, PA\, 19115\, United States
END:VEVENT
BEGIN:VEVENT
DTSTART;TZID=America/New_York:20280812T083000
DTEND;TZID=America/New_York:20280812T110000
DTSTAMP:20260420T102551
CREATED:20250120T145235Z
LAST-MODIFIED:20250519T231123Z
UID:10007290-1849681800-1849690800@lehighbaptistchurch.org
SUMMARY:Men’s Fellowship & Prayer Breakfast
DESCRIPTION:
URL:https://lehighbaptistchurch.org/event/mens-fellowship-prayer-breakfast-2-2/2028-08-12/
LOCATION:Lehigh Baptist Church\, 934 Alburger Avenue\, Philadelphia\, PA\, 19115\, United States
END:VEVENT
BEGIN:VEVENT
DTSTART;TZID=America/New_York:20280812T113000
DTEND;TZID=America/New_York:20280812T133000
DTSTAMP:20260420T102551
CREATED:20251221T202454Z
LAST-MODIFIED:20251221T202455Z
UID:10008100-1849692600-1849699800@lehighbaptistchurch.org
SUMMARY:Women's Fellowship
DESCRIPTION:
URL:https://lehighbaptistchurch.org/event/womens-fellowship-2-2-2/2028-08-12/
LOCATION:Lehigh Baptist Church\, 934 Alburger Avenue\, Philadelphia\, PA\, 19115\, United States
END:VEVENT
BEGIN:VEVENT
DTSTART;TZID=America/New_York:20280813T094500
DTEND;TZID=America/New_York:20280813T104500
DTSTAMP:20260420T102551
CREATED:20250106T184411Z
LAST-MODIFIED:20250106T184411Z
UID:10006649-1849772700-1849776300@lehighbaptistchurch.org
SUMMARY:Sunday School
DESCRIPTION:
URL:https://lehighbaptistchurch.org/event/sunday-school/2028-08-13/
LOCATION:Lehigh Baptist Church\, 934 Alburger Avenue\, Philadelphia\, PA\, 19115\, United States
END:VEVENT
BEGIN:VEVENT
DTSTART;TZID=America/New_York:20280813T110000
DTEND;TZID=America/New_York:20280813T121500
DTSTAMP:20260420T102551
CREATED:20250106T184636Z
LAST-MODIFIED:20250106T184636Z
UID:10006910-1849777200-1849781700@lehighbaptistchurch.org
SUMMARY:Sunday Morning Worship Service
DESCRIPTION:
URL:https://lehighbaptistchurch.org/event/sunday-morning-worship-service/2028-08-13/
LOCATION:Lehigh Baptist Church\, 934 Alburger Avenue\, Philadelphia\, PA\, 19115\, United States
END:VEVENT
BEGIN:VEVENT
DTSTART;TZID=America/New_York:20280816T191500
DTEND;TZID=America/New_York:20280816T201500
DTSTAMP:20260420T102551
CREATED:20250106T185455Z
LAST-MODIFIED:20250106T185455Z
UID:10007175-1850066100-1850069700@lehighbaptistchurch.org
SUMMARY:Midweek Prayer Meeting
DESCRIPTION:
URL:https://lehighbaptistchurch.org/event/midweek-prayer-meeting/2028-08-16/
LOCATION:Lehigh Baptist Church\, 934 Alburger Avenue\, Philadelphia\, PA\, 19115\, United States
END:VEVENT
BEGIN:VEVENT
DTSTART;TZID=America/New_York:20280818T190000
DTEND;TZID=America/New_York:20280818T210000
DTSTAMP:20260420T102551
CREATED:20250615T183824Z
LAST-MODIFIED:20250615T183824Z
UID:10007816-1850238000-1850245200@lehighbaptistchurch.org
SUMMARY:Family Fellowship
DESCRIPTION:
URL:https://lehighbaptistchurch.org/event/family-fellowship/2028-08-18/
LOCATION:Lehigh Baptist Church\, 934 Alburger Avenue\, Philadelphia\, PA\, 19115\, United States
END:VEVENT
BEGIN:VEVENT
DTSTART;TZID=America/New_York:20280820T094500
DTEND;TZID=America/New_York:20280820T104500
DTSTAMP:20260420T102551
CREATED:20250106T184411Z
LAST-MODIFIED:20250106T184411Z
UID:10006650-1850377500-1850381100@lehighbaptistchurch.org
SUMMARY:Sunday School
DESCRIPTION:
URL:https://lehighbaptistchurch.org/event/sunday-school/2028-08-20/
LOCATION:Lehigh Baptist Church\, 934 Alburger Avenue\, Philadelphia\, PA\, 19115\, United States
END:VEVENT
BEGIN:VEVENT
DTSTART;TZID=America/New_York:20280820T110000
DTEND;TZID=America/New_York:20280820T121500
DTSTAMP:20260420T102551
CREATED:20250106T184636Z
LAST-MODIFIED:20250106T184636Z
UID:10006911-1850382000-1850386500@lehighbaptistchurch.org
SUMMARY:Sunday Morning Worship Service
DESCRIPTION:
URL:https://lehighbaptistchurch.org/event/sunday-morning-worship-service/2028-08-20/
LOCATION:Lehigh Baptist Church\, 934 Alburger Avenue\, Philadelphia\, PA\, 19115\, United States
END:VEVENT
END:VCALENDAR