BEGIN:VCALENDAR
VERSION:2.0
PRODID:-//Lehigh Baptist Church - ECPv6.15.20//NONSGML v1.0//EN
CALSCALE:GREGORIAN
METHOD:PUBLISH
X-WR-CALNAME:Lehigh Baptist Church
X-ORIGINAL-URL:https://lehighbaptistchurch.org
X-WR-CALDESC:Events for Lehigh Baptist Church
REFRESH-INTERVAL;VALUE=DURATION:PT1H
X-Robots-Tag:noindex
X-PUBLISHED-TTL:PT1H
BEGIN:VTIMEZONE
TZID:America/New_York
BEGIN:DAYLIGHT
TZOFFSETFROM:-0500
TZOFFSETTO:-0400
TZNAME:EDT
DTSTART:20270314T070000
END:DAYLIGHT
BEGIN:STANDARD
TZOFFSETFROM:-0400
TZOFFSETTO:-0500
TZNAME:EST
DTSTART:20271107T060000
END:STANDARD
BEGIN:DAYLIGHT
TZOFFSETFROM:-0500
TZOFFSETTO:-0400
TZNAME:EDT
DTSTART:20280312T070000
END:DAYLIGHT
BEGIN:STANDARD
TZOFFSETFROM:-0400
TZOFFSETTO:-0500
TZNAME:EST
DTSTART:20281105T060000
END:STANDARD
BEGIN:DAYLIGHT
TZOFFSETFROM:-0500
TZOFFSETTO:-0400
TZNAME:EDT
DTSTART:20290311T070000
END:DAYLIGHT
BEGIN:STANDARD
TZOFFSETFROM:-0400
TZOFFSETTO:-0500
TZNAME:EST
DTSTART:20291104T060000
END:STANDARD
END:VTIMEZONE
BEGIN:VEVENT
DTSTART;TZID=America/New_York:20280305T094500
DTEND;TZID=America/New_York:20280305T104500
DTSTAMP:20260420T072519
CREATED:20250106T184411Z
LAST-MODIFIED:20250106T184411Z
UID:10006626-1835862300-1835865900@lehighbaptistchurch.org
SUMMARY:Sunday School
DESCRIPTION:
URL:https://lehighbaptistchurch.org/event/sunday-school/2028-03-05/
LOCATION:Lehigh Baptist Church\, 934 Alburger Avenue\, Philadelphia\, PA\, 19115\, United States
END:VEVENT
BEGIN:VEVENT
DTSTART;TZID=America/New_York:20280305T110000
DTEND;TZID=America/New_York:20280305T121500
DTSTAMP:20260420T072519
CREATED:20250106T184636Z
LAST-MODIFIED:20250106T184636Z
UID:10006887-1835866800-1835871300@lehighbaptistchurch.org
SUMMARY:Sunday Morning Worship Service
DESCRIPTION:
URL:https://lehighbaptistchurch.org/event/sunday-morning-worship-service/2028-03-05/
LOCATION:Lehigh Baptist Church\, 934 Alburger Avenue\, Philadelphia\, PA\, 19115\, United States
END:VEVENT
BEGIN:VEVENT
DTSTART;TZID=America/New_York:20280308T191500
DTEND;TZID=America/New_York:20280308T201500
DTSTAMP:20260420T072519
CREATED:20250106T185455Z
LAST-MODIFIED:20250106T185455Z
UID:10007152-1836155700-1836159300@lehighbaptistchurch.org
SUMMARY:Midweek Prayer Meeting
DESCRIPTION:
URL:https://lehighbaptistchurch.org/event/midweek-prayer-meeting/2028-03-08/
LOCATION:Lehigh Baptist Church\, 934 Alburger Avenue\, Philadelphia\, PA\, 19115\, United States
END:VEVENT
BEGIN:VEVENT
DTSTART;TZID=America/New_York:20280310T190000
DTEND;TZID=America/New_York:20280310T210000
DTSTAMP:20260420T072519
CREATED:20250615T183824Z
LAST-MODIFIED:20250615T183824Z
UID:10007793-1836327600-1836334800@lehighbaptistchurch.org
SUMMARY:Family Fellowship
DESCRIPTION:
URL:https://lehighbaptistchurch.org/event/family-fellowship/2028-03-10/
LOCATION:Lehigh Baptist Church\, 934 Alburger Avenue\, Philadelphia\, PA\, 19115\, United States
END:VEVENT
BEGIN:VEVENT
DTSTART;TZID=America/New_York:20280311T083000
DTEND;TZID=America/New_York:20280311T110000
DTSTAMP:20260420T072519
CREATED:20250120T145235Z
LAST-MODIFIED:20250519T231123Z
UID:10007285-1836376200-1836385200@lehighbaptistchurch.org
SUMMARY:Men’s Fellowship & Prayer Breakfast
DESCRIPTION:
URL:https://lehighbaptistchurch.org/event/mens-fellowship-prayer-breakfast-2-2/2028-03-11/
LOCATION:Lehigh Baptist Church\, 934 Alburger Avenue\, Philadelphia\, PA\, 19115\, United States
END:VEVENT
BEGIN:VEVENT
DTSTART;TZID=America/New_York:20280311T113000
DTEND;TZID=America/New_York:20280311T133000
DTSTAMP:20260420T072519
CREATED:20251221T202454Z
LAST-MODIFIED:20251221T202455Z
UID:10008095-1836387000-1836394200@lehighbaptistchurch.org
SUMMARY:Women's Fellowship
DESCRIPTION:
URL:https://lehighbaptistchurch.org/event/womens-fellowship-2-2-2/2028-03-11/
LOCATION:Lehigh Baptist Church\, 934 Alburger Avenue\, Philadelphia\, PA\, 19115\, United States
END:VEVENT
BEGIN:VEVENT
DTSTART;TZID=America/New_York:20280312T094500
DTEND;TZID=America/New_York:20280312T104500
DTSTAMP:20260420T072519
CREATED:20250106T184411Z
LAST-MODIFIED:20250106T184411Z
UID:10006627-1836467100-1836470700@lehighbaptistchurch.org
SUMMARY:Sunday School
DESCRIPTION:
URL:https://lehighbaptistchurch.org/event/sunday-school/2028-03-12/
LOCATION:Lehigh Baptist Church\, 934 Alburger Avenue\, Philadelphia\, PA\, 19115\, United States
END:VEVENT
BEGIN:VEVENT
DTSTART;TZID=America/New_York:20280312T110000
DTEND;TZID=America/New_York:20280312T121500
DTSTAMP:20260420T072519
CREATED:20250106T184636Z
LAST-MODIFIED:20250106T184636Z
UID:10006888-1836471600-1836476100@lehighbaptistchurch.org
SUMMARY:Sunday Morning Worship Service
DESCRIPTION:
URL:https://lehighbaptistchurch.org/event/sunday-morning-worship-service/2028-03-12/
LOCATION:Lehigh Baptist Church\, 934 Alburger Avenue\, Philadelphia\, PA\, 19115\, United States
END:VEVENT
BEGIN:VEVENT
DTSTART;TZID=America/New_York:20280315T191500
DTEND;TZID=America/New_York:20280315T201500
DTSTAMP:20260420T072519
CREATED:20250106T185455Z
LAST-MODIFIED:20250106T185455Z
UID:10007153-1836760500-1836764100@lehighbaptistchurch.org
SUMMARY:Midweek Prayer Meeting
DESCRIPTION:
URL:https://lehighbaptistchurch.org/event/midweek-prayer-meeting/2028-03-15/
LOCATION:Lehigh Baptist Church\, 934 Alburger Avenue\, Philadelphia\, PA\, 19115\, United States
END:VEVENT
BEGIN:VEVENT
DTSTART;TZID=America/New_York:20280317T190000
DTEND;TZID=America/New_York:20280317T210000
DTSTAMP:20260420T072519
CREATED:20250615T183824Z
LAST-MODIFIED:20250615T183824Z
UID:10007794-1836932400-1836939600@lehighbaptistchurch.org
SUMMARY:Family Fellowship
DESCRIPTION:
URL:https://lehighbaptistchurch.org/event/family-fellowship/2028-03-17/
LOCATION:Lehigh Baptist Church\, 934 Alburger Avenue\, Philadelphia\, PA\, 19115\, United States
END:VEVENT
BEGIN:VEVENT
DTSTART;TZID=America/New_York:20280319T094500
DTEND;TZID=America/New_York:20280319T104500
DTSTAMP:20260420T072519
CREATED:20250106T184411Z
LAST-MODIFIED:20250106T184411Z
UID:10006628-1837071900-1837075500@lehighbaptistchurch.org
SUMMARY:Sunday School
DESCRIPTION:
URL:https://lehighbaptistchurch.org/event/sunday-school/2028-03-19/
LOCATION:Lehigh Baptist Church\, 934 Alburger Avenue\, Philadelphia\, PA\, 19115\, United States
END:VEVENT
BEGIN:VEVENT
DTSTART;TZID=America/New_York:20280319T110000
DTEND;TZID=America/New_York:20280319T121500
DTSTAMP:20260420T072519
CREATED:20250106T184636Z
LAST-MODIFIED:20250106T184636Z
UID:10006889-1837076400-1837080900@lehighbaptistchurch.org
SUMMARY:Sunday Morning Worship Service
DESCRIPTION:
URL:https://lehighbaptistchurch.org/event/sunday-morning-worship-service/2028-03-19/
LOCATION:Lehigh Baptist Church\, 934 Alburger Avenue\, Philadelphia\, PA\, 19115\, United States
END:VEVENT
BEGIN:VEVENT
DTSTART;TZID=America/New_York:20280322T191500
DTEND;TZID=America/New_York:20280322T201500
DTSTAMP:20260420T072519
CREATED:20250106T185455Z
LAST-MODIFIED:20250106T185455Z
UID:10007154-1837365300-1837368900@lehighbaptistchurch.org
SUMMARY:Midweek Prayer Meeting
DESCRIPTION:
URL:https://lehighbaptistchurch.org/event/midweek-prayer-meeting/2028-03-22/
LOCATION:Lehigh Baptist Church\, 934 Alburger Avenue\, Philadelphia\, PA\, 19115\, United States
END:VEVENT
BEGIN:VEVENT
DTSTART;TZID=America/New_York:20280324T190000
DTEND;TZID=America/New_York:20280324T210000
DTSTAMP:20260420T072519
CREATED:20250615T183824Z
LAST-MODIFIED:20250615T183824Z
UID:10007795-1837537200-1837544400@lehighbaptistchurch.org
SUMMARY:Family Fellowship
DESCRIPTION:
URL:https://lehighbaptistchurch.org/event/family-fellowship/2028-03-24/
LOCATION:Lehigh Baptist Church\, 934 Alburger Avenue\, Philadelphia\, PA\, 19115\, United States
END:VEVENT
BEGIN:VEVENT
DTSTART;TZID=America/New_York:20280326T094500
DTEND;TZID=America/New_York:20280326T104500
DTSTAMP:20260420T072519
CREATED:20250106T184411Z
LAST-MODIFIED:20250106T184411Z
UID:10006629-1837676700-1837680300@lehighbaptistchurch.org
SUMMARY:Sunday School
DESCRIPTION:
URL:https://lehighbaptistchurch.org/event/sunday-school/2028-03-26/
LOCATION:Lehigh Baptist Church\, 934 Alburger Avenue\, Philadelphia\, PA\, 19115\, United States
END:VEVENT
BEGIN:VEVENT
DTSTART;TZID=America/New_York:20280326T110000
DTEND;TZID=America/New_York:20280326T121500
DTSTAMP:20260420T072519
CREATED:20250106T184636Z
LAST-MODIFIED:20250106T184636Z
UID:10006890-1837681200-1837685700@lehighbaptistchurch.org
SUMMARY:Sunday Morning Worship Service
DESCRIPTION:
URL:https://lehighbaptistchurch.org/event/sunday-morning-worship-service/2028-03-26/
LOCATION:Lehigh Baptist Church\, 934 Alburger Avenue\, Philadelphia\, PA\, 19115\, United States
END:VEVENT
BEGIN:VEVENT
DTSTART;TZID=America/New_York:20280329T191500
DTEND;TZID=America/New_York:20280329T201500
DTSTAMP:20260420T072519
CREATED:20250106T185455Z
LAST-MODIFIED:20250106T185455Z
UID:10007155-1837970100-1837973700@lehighbaptistchurch.org
SUMMARY:Midweek Prayer Meeting
DESCRIPTION:
URL:https://lehighbaptistchurch.org/event/midweek-prayer-meeting/2028-03-29/
LOCATION:Lehigh Baptist Church\, 934 Alburger Avenue\, Philadelphia\, PA\, 19115\, United States
END:VEVENT
BEGIN:VEVENT
DTSTART;TZID=America/New_York:20280331T190000
DTEND;TZID=America/New_York:20280331T210000
DTSTAMP:20260420T072519
CREATED:20250615T183824Z
LAST-MODIFIED:20250615T183824Z
UID:10007796-1838142000-1838149200@lehighbaptistchurch.org
SUMMARY:Family Fellowship
DESCRIPTION:
URL:https://lehighbaptistchurch.org/event/family-fellowship/2028-03-31/
LOCATION:Lehigh Baptist Church\, 934 Alburger Avenue\, Philadelphia\, PA\, 19115\, United States
END:VEVENT
BEGIN:VEVENT
DTSTART;TZID=America/New_York:20280402T094500
DTEND;TZID=America/New_York:20280402T104500
DTSTAMP:20260420T072519
CREATED:20250106T184411Z
LAST-MODIFIED:20250106T184411Z
UID:10006630-1838281500-1838285100@lehighbaptistchurch.org
SUMMARY:Sunday School
DESCRIPTION:
URL:https://lehighbaptistchurch.org/event/sunday-school/2028-04-02/
LOCATION:Lehigh Baptist Church\, 934 Alburger Avenue\, Philadelphia\, PA\, 19115\, United States
END:VEVENT
BEGIN:VEVENT
DTSTART;TZID=America/New_York:20280402T110000
DTEND;TZID=America/New_York:20280402T121500
DTSTAMP:20260420T072519
CREATED:20250106T184636Z
LAST-MODIFIED:20250106T184636Z
UID:10006891-1838286000-1838290500@lehighbaptistchurch.org
SUMMARY:Sunday Morning Worship Service
DESCRIPTION:
URL:https://lehighbaptistchurch.org/event/sunday-morning-worship-service/2028-04-02/
LOCATION:Lehigh Baptist Church\, 934 Alburger Avenue\, Philadelphia\, PA\, 19115\, United States
END:VEVENT
BEGIN:VEVENT
DTSTART;TZID=America/New_York:20280405T191500
DTEND;TZID=America/New_York:20280405T201500
DTSTAMP:20260420T072519
CREATED:20250106T185455Z
LAST-MODIFIED:20250106T185455Z
UID:10007156-1838574900-1838578500@lehighbaptistchurch.org
SUMMARY:Midweek Prayer Meeting
DESCRIPTION:
URL:https://lehighbaptistchurch.org/event/midweek-prayer-meeting/2028-04-05/
LOCATION:Lehigh Baptist Church\, 934 Alburger Avenue\, Philadelphia\, PA\, 19115\, United States
END:VEVENT
BEGIN:VEVENT
DTSTART;TZID=America/New_York:20280407T190000
DTEND;TZID=America/New_York:20280407T210000
DTSTAMP:20260420T072519
CREATED:20250615T183824Z
LAST-MODIFIED:20250615T183824Z
UID:10007797-1838746800-1838754000@lehighbaptistchurch.org
SUMMARY:Family Fellowship
DESCRIPTION:
URL:https://lehighbaptistchurch.org/event/family-fellowship/2028-04-07/
LOCATION:Lehigh Baptist Church\, 934 Alburger Avenue\, Philadelphia\, PA\, 19115\, United States
END:VEVENT
BEGIN:VEVENT
DTSTART;TZID=America/New_York:20280408T083000
DTEND;TZID=America/New_York:20280408T110000
DTSTAMP:20260420T072519
CREATED:20250120T145235Z
LAST-MODIFIED:20250519T231123Z
UID:10007286-1838795400-1838804400@lehighbaptistchurch.org
SUMMARY:Men’s Fellowship & Prayer Breakfast
DESCRIPTION:
URL:https://lehighbaptistchurch.org/event/mens-fellowship-prayer-breakfast-2-2/2028-04-08/
LOCATION:Lehigh Baptist Church\, 934 Alburger Avenue\, Philadelphia\, PA\, 19115\, United States
END:VEVENT
BEGIN:VEVENT
DTSTART;TZID=America/New_York:20280408T113000
DTEND;TZID=America/New_York:20280408T133000
DTSTAMP:20260420T072519
CREATED:20251221T202454Z
LAST-MODIFIED:20251221T202455Z
UID:10008096-1838806200-1838813400@lehighbaptistchurch.org
SUMMARY:Women's Fellowship
DESCRIPTION:
URL:https://lehighbaptistchurch.org/event/womens-fellowship-2-2-2/2028-04-08/
LOCATION:Lehigh Baptist Church\, 934 Alburger Avenue\, Philadelphia\, PA\, 19115\, United States
END:VEVENT
BEGIN:VEVENT
DTSTART;TZID=America/New_York:20280409T094500
DTEND;TZID=America/New_York:20280409T104500
DTSTAMP:20260420T072519
CREATED:20250106T184411Z
LAST-MODIFIED:20250106T184411Z
UID:10006631-1838886300-1838889900@lehighbaptistchurch.org
SUMMARY:Sunday School
DESCRIPTION:
URL:https://lehighbaptistchurch.org/event/sunday-school/2028-04-09/
LOCATION:Lehigh Baptist Church\, 934 Alburger Avenue\, Philadelphia\, PA\, 19115\, United States
END:VEVENT
BEGIN:VEVENT
DTSTART;TZID=America/New_York:20280409T110000
DTEND;TZID=America/New_York:20280409T121500
DTSTAMP:20260420T072519
CREATED:20250106T184636Z
LAST-MODIFIED:20250106T184636Z
UID:10006892-1838890800-1838895300@lehighbaptistchurch.org
SUMMARY:Sunday Morning Worship Service
DESCRIPTION:
URL:https://lehighbaptistchurch.org/event/sunday-morning-worship-service/2028-04-09/
LOCATION:Lehigh Baptist Church\, 934 Alburger Avenue\, Philadelphia\, PA\, 19115\, United States
END:VEVENT
BEGIN:VEVENT
DTSTART;TZID=America/New_York:20280412T191500
DTEND;TZID=America/New_York:20280412T201500
DTSTAMP:20260420T072519
CREATED:20250106T185455Z
LAST-MODIFIED:20250106T185455Z
UID:10007157-1839179700-1839183300@lehighbaptistchurch.org
SUMMARY:Midweek Prayer Meeting
DESCRIPTION:
URL:https://lehighbaptistchurch.org/event/midweek-prayer-meeting/2028-04-12/
LOCATION:Lehigh Baptist Church\, 934 Alburger Avenue\, Philadelphia\, PA\, 19115\, United States
END:VEVENT
BEGIN:VEVENT
DTSTART;TZID=America/New_York:20280414T190000
DTEND;TZID=America/New_York:20280414T210000
DTSTAMP:20260420T072519
CREATED:20250615T183824Z
LAST-MODIFIED:20250615T183824Z
UID:10007798-1839351600-1839358800@lehighbaptistchurch.org
SUMMARY:Family Fellowship
DESCRIPTION:
URL:https://lehighbaptistchurch.org/event/family-fellowship/2028-04-14/
LOCATION:Lehigh Baptist Church\, 934 Alburger Avenue\, Philadelphia\, PA\, 19115\, United States
END:VEVENT
BEGIN:VEVENT
DTSTART;TZID=America/New_York:20280416T094500
DTEND;TZID=America/New_York:20280416T104500
DTSTAMP:20260420T072519
CREATED:20250106T184411Z
LAST-MODIFIED:20250106T184411Z
UID:10006632-1839491100-1839494700@lehighbaptistchurch.org
SUMMARY:Sunday School
DESCRIPTION:
URL:https://lehighbaptistchurch.org/event/sunday-school/2028-04-16/
LOCATION:Lehigh Baptist Church\, 934 Alburger Avenue\, Philadelphia\, PA\, 19115\, United States
END:VEVENT
BEGIN:VEVENT
DTSTART;TZID=America/New_York:20280416T110000
DTEND;TZID=America/New_York:20280416T121500
DTSTAMP:20260420T072519
CREATED:20250106T184636Z
LAST-MODIFIED:20250106T184636Z
UID:10006893-1839495600-1839500100@lehighbaptistchurch.org
SUMMARY:Sunday Morning Worship Service
DESCRIPTION:
URL:https://lehighbaptistchurch.org/event/sunday-morning-worship-service/2028-04-16/
LOCATION:Lehigh Baptist Church\, 934 Alburger Avenue\, Philadelphia\, PA\, 19115\, United States
END:VEVENT
END:VCALENDAR