BEGIN:VCALENDAR
VERSION:2.0
PRODID:-//Lehigh Baptist Church - ECPv6.15.20//NONSGML v1.0//EN
CALSCALE:GREGORIAN
METHOD:PUBLISH
X-WR-CALNAME:Lehigh Baptist Church
X-ORIGINAL-URL:https://lehighbaptistchurch.org
X-WR-CALDESC:Events for Lehigh Baptist Church
REFRESH-INTERVAL;VALUE=DURATION:PT1H
X-Robots-Tag:noindex
X-PUBLISHED-TTL:PT1H
BEGIN:VTIMEZONE
TZID:America/New_York
BEGIN:DAYLIGHT
TZOFFSETFROM:-0500
TZOFFSETTO:-0400
TZNAME:EDT
DTSTART:20260308T070000
END:DAYLIGHT
BEGIN:STANDARD
TZOFFSETFROM:-0400
TZOFFSETTO:-0500
TZNAME:EST
DTSTART:20261101T060000
END:STANDARD
BEGIN:DAYLIGHT
TZOFFSETFROM:-0500
TZOFFSETTO:-0400
TZNAME:EDT
DTSTART:20270314T070000
END:DAYLIGHT
BEGIN:STANDARD
TZOFFSETFROM:-0400
TZOFFSETTO:-0500
TZNAME:EST
DTSTART:20271107T060000
END:STANDARD
BEGIN:DAYLIGHT
TZOFFSETFROM:-0500
TZOFFSETTO:-0400
TZNAME:EDT
DTSTART:20280312T070000
END:DAYLIGHT
BEGIN:STANDARD
TZOFFSETFROM:-0400
TZOFFSETTO:-0500
TZNAME:EST
DTSTART:20281105T060000
END:STANDARD
END:VTIMEZONE
BEGIN:VEVENT
DTSTART;TZID=America/New_York:20271105T190000
DTEND;TZID=America/New_York:20271105T210000
DTSTAMP:20260420T032755
CREATED:20250615T183824Z
LAST-MODIFIED:20250615T183824Z
UID:10007775-1825441200-1825448400@lehighbaptistchurch.org
SUMMARY:Family Fellowship
DESCRIPTION:
URL:https://lehighbaptistchurch.org/event/family-fellowship/2027-11-05/
LOCATION:Lehigh Baptist Church\, 934 Alburger Avenue\, Philadelphia\, PA\, 19115\, United States
END:VEVENT
BEGIN:VEVENT
DTSTART;TZID=America/New_York:20271107T094500
DTEND;TZID=America/New_York:20271107T104500
DTSTAMP:20260420T032755
CREATED:20250106T184411Z
LAST-MODIFIED:20250106T184411Z
UID:10006609-1825580700-1825584300@lehighbaptistchurch.org
SUMMARY:Sunday School
DESCRIPTION:
URL:https://lehighbaptistchurch.org/event/sunday-school/2027-11-07/
LOCATION:Lehigh Baptist Church\, 934 Alburger Avenue\, Philadelphia\, PA\, 19115\, United States
END:VEVENT
BEGIN:VEVENT
DTSTART;TZID=America/New_York:20271107T110000
DTEND;TZID=America/New_York:20271107T121500
DTSTAMP:20260420T032755
CREATED:20250106T184636Z
LAST-MODIFIED:20250106T184636Z
UID:10006870-1825585200-1825589700@lehighbaptistchurch.org
SUMMARY:Sunday Morning Worship Service
DESCRIPTION:
URL:https://lehighbaptistchurch.org/event/sunday-morning-worship-service/2027-11-07/
LOCATION:Lehigh Baptist Church\, 934 Alburger Avenue\, Philadelphia\, PA\, 19115\, United States
END:VEVENT
BEGIN:VEVENT
DTSTART;TZID=America/New_York:20271110T191500
DTEND;TZID=America/New_York:20271110T201500
DTSTAMP:20260420T032755
CREATED:20250106T185455Z
LAST-MODIFIED:20250106T185455Z
UID:10007135-1825874100-1825877700@lehighbaptistchurch.org
SUMMARY:Midweek Prayer Meeting
DESCRIPTION:
URL:https://lehighbaptistchurch.org/event/midweek-prayer-meeting/2027-11-10/
LOCATION:Lehigh Baptist Church\, 934 Alburger Avenue\, Philadelphia\, PA\, 19115\, United States
END:VEVENT
BEGIN:VEVENT
DTSTART;TZID=America/New_York:20271112T190000
DTEND;TZID=America/New_York:20271112T210000
DTSTAMP:20260420T032755
CREATED:20250615T183824Z
LAST-MODIFIED:20250615T183824Z
UID:10007776-1826046000-1826053200@lehighbaptistchurch.org
SUMMARY:Family Fellowship
DESCRIPTION:
URL:https://lehighbaptistchurch.org/event/family-fellowship/2027-11-12/
LOCATION:Lehigh Baptist Church\, 934 Alburger Avenue\, Philadelphia\, PA\, 19115\, United States
END:VEVENT
BEGIN:VEVENT
DTSTART;TZID=America/New_York:20271113T083000
DTEND;TZID=America/New_York:20271113T110000
DTSTAMP:20260420T032755
CREATED:20250120T145235Z
LAST-MODIFIED:20250519T231123Z
UID:10007281-1826094600-1826103600@lehighbaptistchurch.org
SUMMARY:Men’s Fellowship & Prayer Breakfast
DESCRIPTION:
URL:https://lehighbaptistchurch.org/event/mens-fellowship-prayer-breakfast-2-2/2027-11-13/
LOCATION:Lehigh Baptist Church\, 934 Alburger Avenue\, Philadelphia\, PA\, 19115\, United States
END:VEVENT
BEGIN:VEVENT
DTSTART;TZID=America/New_York:20271113T113000
DTEND;TZID=America/New_York:20271113T133000
DTSTAMP:20260420T032755
CREATED:20251221T202454Z
LAST-MODIFIED:20251221T202455Z
UID:10008091-1826105400-1826112600@lehighbaptistchurch.org
SUMMARY:Women's Fellowship
DESCRIPTION:
URL:https://lehighbaptistchurch.org/event/womens-fellowship-2-2-2/2027-11-13/
LOCATION:Lehigh Baptist Church\, 934 Alburger Avenue\, Philadelphia\, PA\, 19115\, United States
END:VEVENT
BEGIN:VEVENT
DTSTART;TZID=America/New_York:20271114T094500
DTEND;TZID=America/New_York:20271114T104500
DTSTAMP:20260420T032755
CREATED:20250106T184411Z
LAST-MODIFIED:20250106T184411Z
UID:10006610-1826185500-1826189100@lehighbaptistchurch.org
SUMMARY:Sunday School
DESCRIPTION:
URL:https://lehighbaptistchurch.org/event/sunday-school/2027-11-14/
LOCATION:Lehigh Baptist Church\, 934 Alburger Avenue\, Philadelphia\, PA\, 19115\, United States
END:VEVENT
BEGIN:VEVENT
DTSTART;TZID=America/New_York:20271114T110000
DTEND;TZID=America/New_York:20271114T121500
DTSTAMP:20260420T032755
CREATED:20250106T184636Z
LAST-MODIFIED:20250106T184636Z
UID:10006871-1826190000-1826194500@lehighbaptistchurch.org
SUMMARY:Sunday Morning Worship Service
DESCRIPTION:
URL:https://lehighbaptistchurch.org/event/sunday-morning-worship-service/2027-11-14/
LOCATION:Lehigh Baptist Church\, 934 Alburger Avenue\, Philadelphia\, PA\, 19115\, United States
END:VEVENT
BEGIN:VEVENT
DTSTART;TZID=America/New_York:20271117T191500
DTEND;TZID=America/New_York:20271117T201500
DTSTAMP:20260420T032755
CREATED:20250106T185455Z
LAST-MODIFIED:20250106T185455Z
UID:10007136-1826478900-1826482500@lehighbaptistchurch.org
SUMMARY:Midweek Prayer Meeting
DESCRIPTION:
URL:https://lehighbaptistchurch.org/event/midweek-prayer-meeting/2027-11-17/
LOCATION:Lehigh Baptist Church\, 934 Alburger Avenue\, Philadelphia\, PA\, 19115\, United States
END:VEVENT
BEGIN:VEVENT
DTSTART;TZID=America/New_York:20271119T190000
DTEND;TZID=America/New_York:20271119T210000
DTSTAMP:20260420T032755
CREATED:20250615T183824Z
LAST-MODIFIED:20250615T183824Z
UID:10007777-1826650800-1826658000@lehighbaptistchurch.org
SUMMARY:Family Fellowship
DESCRIPTION:
URL:https://lehighbaptistchurch.org/event/family-fellowship/2027-11-19/
LOCATION:Lehigh Baptist Church\, 934 Alburger Avenue\, Philadelphia\, PA\, 19115\, United States
END:VEVENT
BEGIN:VEVENT
DTSTART;TZID=America/New_York:20271121T094500
DTEND;TZID=America/New_York:20271121T104500
DTSTAMP:20260420T032755
CREATED:20250106T184411Z
LAST-MODIFIED:20250106T184411Z
UID:10006611-1826790300-1826793900@lehighbaptistchurch.org
SUMMARY:Sunday School
DESCRIPTION:
URL:https://lehighbaptistchurch.org/event/sunday-school/2027-11-21/
LOCATION:Lehigh Baptist Church\, 934 Alburger Avenue\, Philadelphia\, PA\, 19115\, United States
END:VEVENT
BEGIN:VEVENT
DTSTART;TZID=America/New_York:20271121T110000
DTEND;TZID=America/New_York:20271121T121500
DTSTAMP:20260420T032755
CREATED:20250106T184636Z
LAST-MODIFIED:20250106T184636Z
UID:10006872-1826794800-1826799300@lehighbaptistchurch.org
SUMMARY:Sunday Morning Worship Service
DESCRIPTION:
URL:https://lehighbaptistchurch.org/event/sunday-morning-worship-service/2027-11-21/
LOCATION:Lehigh Baptist Church\, 934 Alburger Avenue\, Philadelphia\, PA\, 19115\, United States
END:VEVENT
BEGIN:VEVENT
DTSTART;TZID=America/New_York:20271124T191500
DTEND;TZID=America/New_York:20271124T201500
DTSTAMP:20260420T032755
CREATED:20250106T185455Z
LAST-MODIFIED:20250106T185455Z
UID:10007137-1827083700-1827087300@lehighbaptistchurch.org
SUMMARY:Midweek Prayer Meeting
DESCRIPTION:
URL:https://lehighbaptistchurch.org/event/midweek-prayer-meeting/2027-11-24/
LOCATION:Lehigh Baptist Church\, 934 Alburger Avenue\, Philadelphia\, PA\, 19115\, United States
END:VEVENT
BEGIN:VEVENT
DTSTART;TZID=America/New_York:20271126T190000
DTEND;TZID=America/New_York:20271126T210000
DTSTAMP:20260420T032755
CREATED:20250615T183824Z
LAST-MODIFIED:20250615T183824Z
UID:10007778-1827255600-1827262800@lehighbaptistchurch.org
SUMMARY:Family Fellowship
DESCRIPTION:
URL:https://lehighbaptistchurch.org/event/family-fellowship/2027-11-26/
LOCATION:Lehigh Baptist Church\, 934 Alburger Avenue\, Philadelphia\, PA\, 19115\, United States
END:VEVENT
BEGIN:VEVENT
DTSTART;TZID=America/New_York:20271128T094500
DTEND;TZID=America/New_York:20271128T104500
DTSTAMP:20260420T032755
CREATED:20250106T184411Z
LAST-MODIFIED:20250106T184411Z
UID:10006612-1827395100-1827398700@lehighbaptistchurch.org
SUMMARY:Sunday School
DESCRIPTION:
URL:https://lehighbaptistchurch.org/event/sunday-school/2027-11-28/
LOCATION:Lehigh Baptist Church\, 934 Alburger Avenue\, Philadelphia\, PA\, 19115\, United States
END:VEVENT
BEGIN:VEVENT
DTSTART;TZID=America/New_York:20271128T110000
DTEND;TZID=America/New_York:20271128T121500
DTSTAMP:20260420T032755
CREATED:20250106T184636Z
LAST-MODIFIED:20250106T184636Z
UID:10006873-1827399600-1827404100@lehighbaptistchurch.org
SUMMARY:Sunday Morning Worship Service
DESCRIPTION:
URL:https://lehighbaptistchurch.org/event/sunday-morning-worship-service/2027-11-28/
LOCATION:Lehigh Baptist Church\, 934 Alburger Avenue\, Philadelphia\, PA\, 19115\, United States
END:VEVENT
BEGIN:VEVENT
DTSTART;TZID=America/New_York:20271201T191500
DTEND;TZID=America/New_York:20271201T201500
DTSTAMP:20260420T032755
CREATED:20250106T185455Z
LAST-MODIFIED:20250106T185455Z
UID:10007138-1827688500-1827692100@lehighbaptistchurch.org
SUMMARY:Midweek Prayer Meeting
DESCRIPTION:
URL:https://lehighbaptistchurch.org/event/midweek-prayer-meeting/2027-12-01/
LOCATION:Lehigh Baptist Church\, 934 Alburger Avenue\, Philadelphia\, PA\, 19115\, United States
END:VEVENT
BEGIN:VEVENT
DTSTART;TZID=America/New_York:20271203T190000
DTEND;TZID=America/New_York:20271203T210000
DTSTAMP:20260420T032755
CREATED:20250615T183824Z
LAST-MODIFIED:20250615T183824Z
UID:10007779-1827860400-1827867600@lehighbaptistchurch.org
SUMMARY:Family Fellowship
DESCRIPTION:
URL:https://lehighbaptistchurch.org/event/family-fellowship/2027-12-03/
LOCATION:Lehigh Baptist Church\, 934 Alburger Avenue\, Philadelphia\, PA\, 19115\, United States
END:VEVENT
BEGIN:VEVENT
DTSTART;TZID=America/New_York:20271205T094500
DTEND;TZID=America/New_York:20271205T104500
DTSTAMP:20260420T032755
CREATED:20250106T184411Z
LAST-MODIFIED:20250106T184411Z
UID:10006613-1827999900-1828003500@lehighbaptistchurch.org
SUMMARY:Sunday School
DESCRIPTION:
URL:https://lehighbaptistchurch.org/event/sunday-school/2027-12-05/
LOCATION:Lehigh Baptist Church\, 934 Alburger Avenue\, Philadelphia\, PA\, 19115\, United States
END:VEVENT
BEGIN:VEVENT
DTSTART;TZID=America/New_York:20271205T110000
DTEND;TZID=America/New_York:20271205T121500
DTSTAMP:20260420T032755
CREATED:20250106T184636Z
LAST-MODIFIED:20250106T184636Z
UID:10006874-1828004400-1828008900@lehighbaptistchurch.org
SUMMARY:Sunday Morning Worship Service
DESCRIPTION:
URL:https://lehighbaptistchurch.org/event/sunday-morning-worship-service/2027-12-05/
LOCATION:Lehigh Baptist Church\, 934 Alburger Avenue\, Philadelphia\, PA\, 19115\, United States
END:VEVENT
BEGIN:VEVENT
DTSTART;TZID=America/New_York:20271208T191500
DTEND;TZID=America/New_York:20271208T201500
DTSTAMP:20260420T032755
CREATED:20250106T185455Z
LAST-MODIFIED:20250106T185455Z
UID:10007139-1828293300-1828296900@lehighbaptistchurch.org
SUMMARY:Midweek Prayer Meeting
DESCRIPTION:
URL:https://lehighbaptistchurch.org/event/midweek-prayer-meeting/2027-12-08/
LOCATION:Lehigh Baptist Church\, 934 Alburger Avenue\, Philadelphia\, PA\, 19115\, United States
END:VEVENT
BEGIN:VEVENT
DTSTART;TZID=America/New_York:20271210T190000
DTEND;TZID=America/New_York:20271210T210000
DTSTAMP:20260420T032755
CREATED:20250615T183824Z
LAST-MODIFIED:20250615T183824Z
UID:10007780-1828465200-1828472400@lehighbaptistchurch.org
SUMMARY:Family Fellowship
DESCRIPTION:
URL:https://lehighbaptistchurch.org/event/family-fellowship/2027-12-10/
LOCATION:Lehigh Baptist Church\, 934 Alburger Avenue\, Philadelphia\, PA\, 19115\, United States
END:VEVENT
BEGIN:VEVENT
DTSTART;TZID=America/New_York:20271211T083000
DTEND;TZID=America/New_York:20271211T110000
DTSTAMP:20260420T032755
CREATED:20250120T145235Z
LAST-MODIFIED:20250519T231123Z
UID:10007282-1828513800-1828522800@lehighbaptistchurch.org
SUMMARY:Men’s Fellowship & Prayer Breakfast
DESCRIPTION:
URL:https://lehighbaptistchurch.org/event/mens-fellowship-prayer-breakfast-2-2/2027-12-11/
LOCATION:Lehigh Baptist Church\, 934 Alburger Avenue\, Philadelphia\, PA\, 19115\, United States
END:VEVENT
BEGIN:VEVENT
DTSTART;TZID=America/New_York:20271211T113000
DTEND;TZID=America/New_York:20271211T133000
DTSTAMP:20260420T032755
CREATED:20251221T202454Z
LAST-MODIFIED:20251221T202455Z
UID:10008092-1828524600-1828531800@lehighbaptistchurch.org
SUMMARY:Women's Fellowship
DESCRIPTION:
URL:https://lehighbaptistchurch.org/event/womens-fellowship-2-2-2/2027-12-11/
LOCATION:Lehigh Baptist Church\, 934 Alburger Avenue\, Philadelphia\, PA\, 19115\, United States
END:VEVENT
BEGIN:VEVENT
DTSTART;TZID=America/New_York:20271211T173000
DTEND;TZID=America/New_York:20271211T210000
DTSTAMP:20260420T032755
CREATED:20251129T204741Z
LAST-MODIFIED:20251129T204741Z
UID:10008060-1828546200-1828558800@lehighbaptistchurch.org
SUMMARY:Annual Christmas Dinner
DESCRIPTION:
URL:https://lehighbaptistchurch.org/event/annual-christmas-dinner/2027-12-11/
LOCATION:Lehigh Baptist Church\, 934 Alburger Avenue\, Philadelphia\, PA\, 19115\, United States
END:VEVENT
BEGIN:VEVENT
DTSTART;TZID=America/New_York:20271212T094500
DTEND;TZID=America/New_York:20271212T104500
DTSTAMP:20260420T032755
CREATED:20250106T184411Z
LAST-MODIFIED:20250106T184411Z
UID:10006614-1828604700-1828608300@lehighbaptistchurch.org
SUMMARY:Sunday School
DESCRIPTION:
URL:https://lehighbaptistchurch.org/event/sunday-school/2027-12-12/
LOCATION:Lehigh Baptist Church\, 934 Alburger Avenue\, Philadelphia\, PA\, 19115\, United States
END:VEVENT
BEGIN:VEVENT
DTSTART;TZID=America/New_York:20271212T110000
DTEND;TZID=America/New_York:20271212T121500
DTSTAMP:20260420T032755
CREATED:20250106T184636Z
LAST-MODIFIED:20250106T184636Z
UID:10006875-1828609200-1828613700@lehighbaptistchurch.org
SUMMARY:Sunday Morning Worship Service
DESCRIPTION:
URL:https://lehighbaptistchurch.org/event/sunday-morning-worship-service/2027-12-12/
LOCATION:Lehigh Baptist Church\, 934 Alburger Avenue\, Philadelphia\, PA\, 19115\, United States
END:VEVENT
BEGIN:VEVENT
DTSTART;TZID=America/New_York:20271215T191500
DTEND;TZID=America/New_York:20271215T201500
DTSTAMP:20260420T032755
CREATED:20250106T185455Z
LAST-MODIFIED:20250106T185455Z
UID:10007140-1828898100-1828901700@lehighbaptistchurch.org
SUMMARY:Midweek Prayer Meeting
DESCRIPTION:
URL:https://lehighbaptistchurch.org/event/midweek-prayer-meeting/2027-12-15/
LOCATION:Lehigh Baptist Church\, 934 Alburger Avenue\, Philadelphia\, PA\, 19115\, United States
END:VEVENT
BEGIN:VEVENT
DTSTART;TZID=America/New_York:20271217T190000
DTEND;TZID=America/New_York:20271217T210000
DTSTAMP:20260420T032755
CREATED:20250615T183824Z
LAST-MODIFIED:20250615T183824Z
UID:10007781-1829070000-1829077200@lehighbaptistchurch.org
SUMMARY:Family Fellowship
DESCRIPTION:
URL:https://lehighbaptistchurch.org/event/family-fellowship/2027-12-17/
LOCATION:Lehigh Baptist Church\, 934 Alburger Avenue\, Philadelphia\, PA\, 19115\, United States
END:VEVENT
END:VCALENDAR